BEGIN:VCALENDAR
VERSION:2.0
PRODID:-//Ford &amp; Ford Auctioneers - ECPv6.15.20//NONSGML v1.0//EN
CALSCALE:GREGORIAN
METHOD:PUBLISH
X-WR-CALNAME:Ford &amp; Ford Auctioneers
X-ORIGINAL-URL:https://fordford.net
X-WR-CALDESC:Events for Ford &amp; Ford Auctioneers
REFRESH-INTERVAL;VALUE=DURATION:PT1H
X-Robots-Tag:noindex
X-PUBLISHED-TTL:PT1H
BEGIN:VTIMEZONE
TZID:America/Chicago
BEGIN:DAYLIGHT
TZOFFSETFROM:-0600
TZOFFSETTO:-0500
TZNAME:CDT
DTSTART:20240310T080000
END:DAYLIGHT
BEGIN:STANDARD
TZOFFSETFROM:-0500
TZOFFSETTO:-0600
TZNAME:CST
DTSTART:20241103T070000
END:STANDARD
BEGIN:DAYLIGHT
TZOFFSETFROM:-0600
TZOFFSETTO:-0500
TZNAME:CDT
DTSTART:20250309T080000
END:DAYLIGHT
BEGIN:STANDARD
TZOFFSETFROM:-0500
TZOFFSETTO:-0600
TZNAME:CST
DTSTART:20251102T070000
END:STANDARD
BEGIN:DAYLIGHT
TZOFFSETFROM:-0600
TZOFFSETTO:-0500
TZNAME:CDT
DTSTART:20260308T080000
END:DAYLIGHT
BEGIN:STANDARD
TZOFFSETFROM:-0500
TZOFFSETTO:-0600
TZNAME:CST
DTSTART:20261101T070000
END:STANDARD
END:VTIMEZONE
BEGIN:VEVENT
DTSTART;TZID=America/Chicago:20250723T120000
DTEND;TZID=America/Chicago:20250730T120000
DTSTAMP:20260425T194732
CREATED:20250722T191252Z
LAST-MODIFIED:20250730T185216Z
UID:10000096-1753272000-1753876800@fordford.net
SUMMARY:UNL Alumni Band Instruments - ONLINE Auction
DESCRIPTION:Click on the thumbnail to expand the photo. Be sure to visit each page of photos.*Please note* Most but not all lots are pictured. \n			\n			\n				\n				\n				\n				\n			\n				\n				\n				\n				\n				\n				\n				\n				\n				\n				\n				UNL Alumni Band Instruments Auction – ONLINE ONLY\nWe are selling for the University of Nebraska.. \nPreview & Inspection times will be available on Wednesday July 23\, 12:00-1:00\, Thursday July 24\, 2:00-3:00 p.m. and Tuesday July 29\, 8:00-9:00 a.m. @ UNL East Campus Surplus Building.Online Auction @ 12:00 PMAuction held ONLINE – Follow the link below to review all Auction Items. \nFeaturing :UNL Alumni Band Instruments \nAuction Preview & Pickup\nUNL East Campus Surplus3630 East Campus Loop\, Lincoln\, Nebraska(Two Buildings East of the Loop) \nClick Here for Directions \nAuction Notice\nPayment Details:This is an online only payment auction.  We will not be accepting payments in person.Full payment is required within 24 hours of auction closing.  City and State sales tax will be added to purchases.  Online payments will be charged a 5% processing fee. \nPickup/Shipping:In person pickup is required for this item.  Shipping is not an option for this item.  Pickup will be available Friday August 1\, 1:00-3:00 p.m. or Saturday August 2\, 9:00-11:00 a.m. \nAll items are sold as-is\, where-is with no warranties\, guarantees\, returns\, or refunds.  It is the responsibility of the bidder to inspect item descriptions and ask questions prior to bidding.  Inspection will be available on Thursday July 24\, 2:00-3:00 p.m. and Tuesday July 29\, 8:00-9:00 a.m. \n			\n			\n				\n				\n				\n				\n			\n				\n				\n				\n				\n				\n				\n				\n				\n				\n				\n				By participating in our auctions\, you agree to our terms and conditions – Click here for details. \nIt is the bidder’s responsibility to be informed of the payment & pickup/shipping requirements before participating. Auction requirements vary depending on the item\, be sure to read all the provided details on your auction description. \n			\n				Online Auction is Live - Click Here to Bid\n			\n			\n				\n				\n				\n				\n			\n				\n				\n				\n				\n				\n				\n				\n				\n				\n				\n				Thank You for Attending!\nFORD & FORD AUCTIONEERS\, INC.\nNorman L. Ford – Founder   |   Gregory A. Ford – Salesman\n1-402-475-7312\n2000 West Denton Road Lincoln\, NE 68523\nquestions@fordfordauctioneers.com
URL:https://fordford.net/event/unl-alumni-band-instruments-online-auction/
LOCATION:Online Auction
CATEGORIES:Auction,Final Results,Online Auctions
ATTACH;FMTTYPE=image/jpeg:https://fordford.net/wp-content/uploads/2025/07/71310-1.jpg
END:VEVENT
BEGIN:VEVENT
DTSTART;TZID=America/Chicago:20250727T130000
DTEND;TZID=America/Chicago:20250727T150000
DTSTAMP:20260425T194732
CREATED:20250522T132743Z
LAST-MODIFIED:20250929T152139Z
UID:10000085-1753621200-1753628400@fordford.net
SUMMARY:TODAY:  REAL ESTATE AUCTION:  Sunday\, July 27th\, 2025______6700 Francis Street     Lincoln\, NE
DESCRIPTION:Click on the thumbnail to expand the photo. Be sure to visit each page of photos. \n			\n			\n				\n				\n				\n				\n			\n				\n				\n				\n				\n				\n				\n				\n				\n				\n				\n				This property sold for $190\,000.00 on  07/27/25. \nREAL ESTATE AUCTIONSunday\, July 27\, 20251:00 PM6700 Francis Street     Lincoln\, NE. \n  \nAUCTION NOTICE: \n(1) Story\, Framed Home.(2) Bedrooms on the main floor.Formal Living Room.Formal Dining Area.Office Located on Main Floor.Heated Patio/Enclosed Porch with 256 Square Feet.Recently Remodeled Walk-In\,  (3) Fixture Bathroom on the main floor.Recently Remodeled Closet in Main Bedroom. \nMostly Finished Basement.(1) Bedroom in the Basement with Egress Window.Egress Window in Living Room in the Basement.Wood Burning Stove in Basement.Elevator that goes from Main Floor to Basement. \nBuilt in 1957.1507 Square Feet.New HVAC System. \nHardwood Floors.Mixed Floor Coverings in the living room and kitchen area–carpet & linoleum.Washer & Dryer Located on the Main Floor. \n(2) Stall Garage with 528 Square Feet.Small Out Building.Corner Lot with lots of Landscaping.Large Garden Area.Wood Composite Deck with 296 Square Feet. \nITEMS SOLD WITH THE HOUSE:All Appliances.Drapery.Ceiling Fans. \nNEW INFORMATION REGARDING TO THE HOME:Original Hardwood Oak Floors on the Main Floor.The Exterior Windows Have Been Replaced.NEW HVAC System installed in 2023.NEW Hot Water Heater Installed in 2023.NEW LG Refrigerator Purchased in 2023.The Electric Stove & Dishwasher Have Been Replaced.NEW Walk-In Shower & Bathroom Installed in 2023.Revamped Main Bedroom Closet. \n  \nClose to Shopping.Close to Schools.Close to Restaurants. \nLegal Description:  Cotner College Addition. Block 2\, Lot 33\, W65′ S25′ & Lot 34.Property ID:  17 – 16 -417 – 034 – 000Property Class: (Residential Improved)Primary Use: Single FamilyZoning: R2 – Residential DistrictNeighborhood:  7MNE079 – Bethany \nTERMS: 5% Down Day of Sale with Balance in 45 Days.This Property Sells to the Subject to the Mortgage. \nWe are selling for Sharon Vang. \nFor further information or to make an appointment to see the home\, call 402-475-7312. \nGregory A. Ford–Salesman          1867 Collective–BROKER \nGregory A. Ford–President          Norman L. Ford–FounderFord & Ford Auctioneers\, Inc.2000 W. Denton RoadLincoln\, NE.     68523402-475-7312 \n  \n			\n			\n				\n				\n				\n				\n			\n				\n				\n				\n				\n				\n				\n				\n				\n				\n				\n				Thank You for Attending!\nFORD & FORD AUCTIONEERS\, INC.\nNorman L. Ford – Founder   |   Gregory A. Ford – Salesman\n1-402-475-7312\n2000 West Denton Road Lincoln\, NE 68523\nquestions@fordfordauctioneers.com
URL:https://fordford.net/event/new-real-estate-auction-sunday-july-27th-2025______6700-francis-street-lincoln-ne/
LOCATION:6700 Francis Street\, 6700 Francis Street\, Lincoln\, NE
CATEGORIES:Final Results,Real Estate Auction
ATTACH;FMTTYPE=image/jpeg:https://fordford.net/wp-content/uploads/2025/06/IMG_4161.jpg
END:VEVENT
END:VCALENDAR