BEGIN:VCALENDAR
VERSION:2.0
PRODID:-//Ford &amp; Ford Auctioneers - ECPv6.15.20//NONSGML v1.0//EN
CALSCALE:GREGORIAN
METHOD:PUBLISH
X-WR-CALNAME:Ford &amp; Ford Auctioneers
X-ORIGINAL-URL:https://fordford.net
X-WR-CALDESC:Events for Ford &amp; Ford Auctioneers
REFRESH-INTERVAL;VALUE=DURATION:PT1H
X-Robots-Tag:noindex
X-PUBLISHED-TTL:PT1H
BEGIN:VTIMEZONE
TZID:America/Chicago
BEGIN:DAYLIGHT
TZOFFSETFROM:-0600
TZOFFSETTO:-0500
TZNAME:CDT
DTSTART:20240310T080000
END:DAYLIGHT
BEGIN:STANDARD
TZOFFSETFROM:-0500
TZOFFSETTO:-0600
TZNAME:CST
DTSTART:20241103T070000
END:STANDARD
BEGIN:DAYLIGHT
TZOFFSETFROM:-0600
TZOFFSETTO:-0500
TZNAME:CDT
DTSTART:20250309T080000
END:DAYLIGHT
BEGIN:STANDARD
TZOFFSETFROM:-0500
TZOFFSETTO:-0600
TZNAME:CST
DTSTART:20251102T070000
END:STANDARD
BEGIN:DAYLIGHT
TZOFFSETFROM:-0600
TZOFFSETTO:-0500
TZNAME:CDT
DTSTART:20260308T080000
END:DAYLIGHT
BEGIN:STANDARD
TZOFFSETFROM:-0500
TZOFFSETTO:-0600
TZNAME:CST
DTSTART:20261101T070000
END:STANDARD
END:VTIMEZONE
BEGIN:VEVENT
DTSTART;TZID=America/Chicago:20250802T090000
DTEND;TZID=America/Chicago:20250802T170000
DTSTAMP:20260425T200355
CREATED:20250712T155636Z
LAST-MODIFIED:20250802T091208Z
UID:10000094-1754125200-1754154000@fordford.net
SUMMARY:TODAY:  ESTATE AUCTION:  Saturday\, August 2nd\, 2025______2000 W. Denton Road     Lincoln\, NE.
DESCRIPTION:Click on the thumbnail to expand the photo. Be sure to visit each page of photos. \n			\n			\n				\n				\n				\n				\n			\n				\n				\n				\n				\n				\n				\n				\n				\n				\n				\n				HUGE ESTATE AUCTION:*(3) Sectional Oak Bookcase**Nice Sliding Glass Door Display Cabinet**Home Furnishings**Costume Jewelry & Men’s Watches**Gold Chain & Rings**Asian Motiff**Figural & Animal Carvings**(40+) Prints & Pictures**2007 Toyota Avalon Ltd. -147K Miles \nSaturday\, August 2nd\, 2025     (Early Start Time)  9:00 AM     Preview 8:00 AM2000 W. Denton Road     Lincoln\, NE.  \n___________________________________________________________________________________________________________________________________________________________________________________________________________________________ \nAUCTION TO INCLUDE: \n*Gold & Silver Coin Set**Mint Sets & Currency*  *Tier One Parking Tokens**Stamp Collection*  *Yamaha Stereo Components & Record Player*  *ADCOM GFA-555 Amp & GFS-3 Speaker Selector*  *Pioneer RT-909 Reel to Reel Player*  *Yamaha M-65 Amp*  *Mitsubishi U80 VCR-New in Box* *LP Records*to include The Beatles- White Album; Abbey Road;  Sgt. Pepper’s Lonely Hearts Club Band..Pink Floyd-The Wall\, Dark Side of the MoonHerb AlbertAmerican Graffiti SoundtrackBachJoan BaezBee GeesBlues BrothersJimmy BuffetCharlie Daniels BandChicagoEric ClaptonBob DylanEaglesJerry GarciaArlo GuthrieKissGordan LightfootVan MorrisonMoody BluesNitty Gritty Dirt BandSantanaCat StevensStyxxSupertrampThree Dog NightWoodstock Original SoundtrackLed Zepplinmany not listed…… \n*1936 Oil Painting of Col Halsey E. Yates by Morley Fletcher*  *Watercolor Paintings*  *Sm. Prayer Rug* \n*Hummel Figurines*  *Gold Necklace & Rings*  *Sterling Jewelry**Men’s Wrist Watches* \n*Ericofone Telephones*  *Ericofone Double Sided Enamel Sign* \n*(15) Abbotwares Horse\, Figural & Animal Radios*  *Ansonia & Chelsea Mantle Clocks*  *Crosley Radio* \n*Early 1930’s/40’s Cowboy Guitars-Rodeo\, Singing Cowboys\, Roy Rogers\, Round Up\, Bob West*  *Gene Autry 1930s Parlor Style Guitar w/Certificate of Authenticity From Jim Reeves Museum* \n*Military Clothing\, Helmets & Flack Jacket–Post 1970’s*  *Ammo Boxes*  *UNL Women’s Volleyball Photos & Misc. Clothing* \n*Leaded Glass Cabinet*  *Sectional Bookcase*  *Folding Bookshelves*  *Drop Front Desk*  *Leather Armchairs*  *Metal & Glass Tea Cart* \n*Pipes*  *World Globe* *Figurines*  *African Figurines*  *Asian Theme Chinawares*  *Misc. Glassware* \n*Tool Chest*  *Hand Tools\, Vise Grips & Bench Vise*  *Frigidaire in Room Air Conditioner* \nWe are selling for the Kathryn Bellman Estate.We are selling for the Jack Harper Estate. \n			\n			\n				\n				\n				\n				\n			\n				\n				\n				\n				\n				\n				\n				\n				\n				\n				\n				Thank You for Attending!\nFORD & FORD AUCTIONEERS\, INC.\nNorman L. Ford – Founder   |   Gregory A. Ford – Salesman\n1-402-475-7312\n2000 West Denton Road Lincoln\, NE 68523\nquestions@fordfordauctioneers.com
URL:https://fordford.net/event/new-estate-auction-saturday-august-2nd-2025______2000-w-denton-road-lincoln-ne/
LOCATION:2000 W. Denton Road\, 2000 W. Denton Road\, Lincoln\, NE\, 68523\, United States
ATTACH;FMTTYPE=image/jpeg:https://fordford.net/wp-content/uploads/2025/07/IMG_5251.jpg
END:VEVENT
END:VCALENDAR