BEGIN:VCALENDAR
VERSION:2.0
PRODID:-//Ford &amp; Ford Auctioneers - ECPv6.15.20//NONSGML v1.0//EN
CALSCALE:GREGORIAN
METHOD:PUBLISH
X-WR-CALNAME:Ford &amp; Ford Auctioneers
X-ORIGINAL-URL:https://fordford.net
X-WR-CALDESC:Events for Ford &amp; Ford Auctioneers
REFRESH-INTERVAL;VALUE=DURATION:PT1H
X-Robots-Tag:noindex
X-PUBLISHED-TTL:PT1H
BEGIN:VTIMEZONE
TZID:America/Chicago
BEGIN:DAYLIGHT
TZOFFSETFROM:-0600
TZOFFSETTO:-0500
TZNAME:CDT
DTSTART:20240310T080000
END:DAYLIGHT
BEGIN:STANDARD
TZOFFSETFROM:-0500
TZOFFSETTO:-0600
TZNAME:CST
DTSTART:20241103T070000
END:STANDARD
BEGIN:DAYLIGHT
TZOFFSETFROM:-0600
TZOFFSETTO:-0500
TZNAME:CDT
DTSTART:20250309T080000
END:DAYLIGHT
BEGIN:STANDARD
TZOFFSETFROM:-0500
TZOFFSETTO:-0600
TZNAME:CST
DTSTART:20251102T070000
END:STANDARD
BEGIN:DAYLIGHT
TZOFFSETFROM:-0600
TZOFFSETTO:-0500
TZNAME:CDT
DTSTART:20260308T080000
END:DAYLIGHT
BEGIN:STANDARD
TZOFFSETFROM:-0500
TZOFFSETTO:-0600
TZNAME:CST
DTSTART:20261101T070000
END:STANDARD
END:VTIMEZONE
BEGIN:VEVENT
DTSTART;TZID=America/Chicago:20250816T100000
DTEND;TZID=America/Chicago:20250816T130000
DTSTAMP:20260425T200234
CREATED:20250730T184449Z
LAST-MODIFIED:20250816T101304Z
UID:10000097-1755338400-1755349200@fordford.net
SUMMARY:TODAY:  ESTATE AUCTION:  Saturday\, August 16th\, 2025_____3531 No. 11th Street     Lincoln\, NE.
DESCRIPTION:Click on the thumbnail to expand the photo. Be sure to visit each page of photos. \n			\n			\n				\n				\n				\n				\n			\n				\n				\n				\n				\n				\n				\n				\n				\n				\n				\n				ESTATE AUCTION:\n* Cub Cadet Riding Lawn Mower\, Model LT46\, ST1 Enduro Series–130 hrs.**Stihl Gas Blower Vacs**Craftsman Mower**Large Selection of Power & Hand Tools* \nSaturday\, August 16th\, 2025     10:00 AM     Preview @ 9:00 AM3531 No. 11th Street     Lincoln\, NE. Auction held at the location. \nAuction Directions:At the intersection of No. 11th & Adams Street\,Travel North on No. 11th about 6 blocks to the auction site. \n  \nAUCTION TO INCLUDE:Cub Cadet\, Model LT46\, XT1 Enduro Series Riding Lawn MowerCraftsman MowerEcho Gas BlowerStihl Gas Blower\, Model SH 56CStihl Gas BlowerGas Grass TrimmerGas Edgers \nS-K Wayne Tool Box S-K Wayne Ratchet & Sockets Hammers & Mallets Pipe Wrenches Channel Locks\, Pliers & Vise Grips Pliers & Tin Snips Pipe Clamps Duracraft Bench Vise Delta Bench Grinder Small Anvil \nSeveral Hand Sanders Porter Cable Tiger Claw Jig Saws Routers Router Bits & Sets Dremel & Drill Bit Sets 13 Pc. Flat Wood Drill Bit Titanium Coated Set Circular Saws Electric Drills Hammer Drills Cordless Drills \nDrop Cords Sand Paper Grass Edger Trimline Jumper Cables Lg. Log Chain \nAutomotive Supplies Garage Supplies New Door Lock Sets Empty Tool Boxes Lawn & Garden Tools Garden Hose Fertilizer Ladders \nMisc. Fishing Rods & Reels Tarps Coolers Garbage Cans Garage Refrigerator Appliance Dollie Pickup Tool Box Aluminum Ramps \n  \nNOTE:  Not a big sale so please be on time!! \n			\n			\n				\n				\n				\n				\n			\n				\n				\n				\n				\n				\n				\n				\n				\n				\n				\n				Thank You for Attending!\nFORD & FORD AUCTIONEERS\, INC.\nNorman L. Ford – Founder   |   Gregory A. Ford – Salesman\n1-402-475-7312\n2000 West Denton Road Lincoln\, NE 68523\nquestions@fordfordauctioneers.com
URL:https://fordford.net/event/estate-auction-saturday-august-16th-2025_____3531-no-11th-street-lincoln-ne/
LOCATION:3531 No. 11th Street\, 3531 No. 11th Street\, Lin\, NE
CATEGORIES:Auction
ATTACH;FMTTYPE=image/jpeg:https://fordford.net/wp-content/uploads/2025/07/IMG_4373.jpg
END:VEVENT
END:VCALENDAR