BEGIN:VCALENDAR
VERSION:2.0
PRODID:-//Ford &amp; Ford Auctioneers - ECPv6.15.20//NONSGML v1.0//EN
CALSCALE:GREGORIAN
METHOD:PUBLISH
X-ORIGINAL-URL:https://fordford.net
X-WR-CALDESC:Events for Ford &amp; Ford Auctioneers
REFRESH-INTERVAL;VALUE=DURATION:PT1H
X-Robots-Tag:noindex
X-PUBLISHED-TTL:PT1H
BEGIN:VTIMEZONE
TZID:America/Chicago
BEGIN:DAYLIGHT
TZOFFSETFROM:-0600
TZOFFSETTO:-0500
TZNAME:CDT
DTSTART:20240310T080000
END:DAYLIGHT
BEGIN:STANDARD
TZOFFSETFROM:-0500
TZOFFSETTO:-0600
TZNAME:CST
DTSTART:20241103T070000
END:STANDARD
BEGIN:DAYLIGHT
TZOFFSETFROM:-0600
TZOFFSETTO:-0500
TZNAME:CDT
DTSTART:20250309T080000
END:DAYLIGHT
BEGIN:STANDARD
TZOFFSETFROM:-0500
TZOFFSETTO:-0600
TZNAME:CST
DTSTART:20251102T070000
END:STANDARD
BEGIN:DAYLIGHT
TZOFFSETFROM:-0600
TZOFFSETTO:-0500
TZNAME:CDT
DTSTART:20260308T080000
END:DAYLIGHT
BEGIN:STANDARD
TZOFFSETFROM:-0500
TZOFFSETTO:-0600
TZNAME:CST
DTSTART:20261101T070000
END:STANDARD
END:VTIMEZONE
BEGIN:VEVENT
DTSTART;TZID=America/Chicago:20250817T130000
DTEND;TZID=America/Chicago:20250817T200000
DTSTAMP:20260425T194757
CREATED:20250527T180427Z
LAST-MODIFIED:20250817T190146Z
UID:10000086-1755435600-1755460800@fordford.net
SUMMARY:TODAY:  REAL ESTATE AUCTION:  Sunday\, August 17th\, 2025_____2432 So. 9th Street      Lincoln\, NE.
DESCRIPTION:Click on the thumbnail to expand the photo.  \n			\n			\n				\n				\n				\n				\n			\n				\n				\n				\n				\n				\n				\n				\n				\n				\n				\n				THIS PROPERTY SOLD FOR $49\,000.00 on 08/17/2025. \nREAL ESTATE AUCTION Sunday\, August 17th\, 2025 1:00 PM 2432 So. 9th Street     Lincoln\, NE. \n  \nAUCTION NOTICE: \n(1) Story Bungalow\, Framed Home. (3) Bedrooms. (1)  3 Fixture Bathroom \nBuilt in 1900. 956 Square Feet. HVAC System. \nSmall Storage Shed. This home is Wheel Chair Accessible. \nITEMS SOLD WITH THE HOUSE: All Appliances. Drapery. Ceiling Fans. \nClose to Shopping. Close to Schools. Close to Restaurants. \nLegal Description:  South Park Addition\, Block 6\, Lot 20. Property ID:  10 – 35 – 410 – 055 – 000 Property Class: (Residential Improved) Primary Use: Single Family Zoning: R2 – Residential District Neighborhood:  7LCN062 – South Bottoms – Low \nTERMS: 10% Down Day of Sale with Balance in 45 Days. This Property Sells to the HIGHEST BIDDER. \nWe are selling for EDP Realty LLC. \nFor further information or to make an appointment to see the home\, call 402-475-7312. \nGregory A. Ford–Salesman          1867 Collective–BROKER \nGregory A. Ford–President          Norman L. Ford–Founder Ford & Ford Auctioneers\, Inc. 2000 W. Denton Road Lincoln\, NE.     68523 402-475-7312 \n			\n			\n				\n				\n				\n				\n			\n				\n				\n				\n				\n				\n				\n				\n				\n				\n				\n				Thank You for Attending!\nFORD & FORD AUCTIONEERS\, INC.\nNorman L. Ford – Founder   |   Gregory A. Ford – Salesman\n1-402-475-7312\n2000 West Denton Road Lincoln\, NE 68523\nquestions@fordfordauctioneers.com
URL:https://fordford.net/event/new-real-estate-auction-sunday-th-202august-17th-2025_____2432-so-9th-street-lincoln-ne/
LOCATION:2432 So. 9th Street\, 2432 So. 9th Street\, Lincoln\, NE
CATEGORIES:Real Estate Auction
ATTACH;FMTTYPE=image/jpeg:https://fordford.net/wp-content/uploads/2025/07/IMG_3382.jpg
END:VEVENT
END:VCALENDAR