BEGIN:VCALENDAR
VERSION:2.0
PRODID:-//Ford &amp; Ford Auctioneers - ECPv6.15.20//NONSGML v1.0//EN
CALSCALE:GREGORIAN
METHOD:PUBLISH
X-ORIGINAL-URL:https://fordford.net
X-WR-CALDESC:Events for Ford &amp; Ford Auctioneers
REFRESH-INTERVAL;VALUE=DURATION:PT1H
X-Robots-Tag:noindex
X-PUBLISHED-TTL:PT1H
BEGIN:VTIMEZONE
TZID:America/Chicago
BEGIN:DAYLIGHT
TZOFFSETFROM:-0600
TZOFFSETTO:-0500
TZNAME:CDT
DTSTART:20240310T080000
END:DAYLIGHT
BEGIN:STANDARD
TZOFFSETFROM:-0500
TZOFFSETTO:-0600
TZNAME:CST
DTSTART:20241103T070000
END:STANDARD
BEGIN:DAYLIGHT
TZOFFSETFROM:-0600
TZOFFSETTO:-0500
TZNAME:CDT
DTSTART:20250309T080000
END:DAYLIGHT
BEGIN:STANDARD
TZOFFSETFROM:-0500
TZOFFSETTO:-0600
TZNAME:CST
DTSTART:20251102T070000
END:STANDARD
BEGIN:DAYLIGHT
TZOFFSETFROM:-0600
TZOFFSETTO:-0500
TZNAME:CDT
DTSTART:20260308T080000
END:DAYLIGHT
BEGIN:STANDARD
TZOFFSETFROM:-0500
TZOFFSETTO:-0600
TZNAME:CST
DTSTART:20261101T070000
END:STANDARD
END:VTIMEZONE
BEGIN:VEVENT
DTSTART;TZID=America/Chicago:20250910T143000
DTEND;TZID=America/Chicago:20250917T180000
DTSTAMP:20260425T180905
CREATED:20250909T160111Z
LAST-MODIFIED:20250917T133923Z
UID:10000104-1757514600-1758132000@fordford.net
SUMMARY:Online Auction 2013 Lexus RX350-Ends Today!!
DESCRIPTION:Click on the thumbnail to expand the photo. Be sure to visit each page of photos. \n			\n			\n				\n				\n				\n				\n			\n				\n				\n				\n				\n				\n				\n				\n				\n				\n				\n				2013 Lexus RX350 SedanThis is a trust estate vehicle.4 door\, leather interior\, 139K miles.VIN 2T28K1BA30C169435The vehicle has a clear title.It does run well and has been service checked out.Please be sure to view all the photos as there is quite a bit of body damage so bid accordingly. \n			\n			\n				\n				\n				\n				\n			\n				\n				\n				\n				\n				\n				\n				\n				\n				\n				\n				By participating in our auctions\, you agree to our terms and conditions – Click here for details. \nIt is the bidder’s responsibility to be informed of the payment & pickup/shipping requirements before participating. Auction requirements vary depending on the item\, be sure to read all the provided details on your auction description. \n			\n				Online Auction is Live - Click Here to Bid\n			\n			\n				\n				\n				\n				\n			\n				\n				\n				\n				\n				\n				\n				\n				\n				\n				\n				Thank You for Attending!\nFORD & FORD AUCTIONEERS\, INC.\nNorman L. Ford – Founder   |   Gregory A. Ford – Salesman\n1-402-475-7312\n2000 West Denton Road Lincoln\, NE 68523\nquestions@fordfordauctioneers.com
URL:https://fordford.net/event/online-auction-2013-lexus-rx350/
LOCATION:Online Auction
CATEGORIES:Online Auctions
ATTACH;FMTTYPE=image/jpeg:https://fordford.net/wp-content/uploads/2025/09/IMG_4567.jpg
END:VEVENT
BEGIN:VEVENT
DTSTART;TZID=America/Chicago:20250913T100000
DTEND;TZID=America/Chicago:20250913T170000
DTSTAMP:20260425T180905
CREATED:20250721T143823Z
LAST-MODIFIED:20250913T090147Z
UID:10000095-1757757600-1757782800@fordford.net
SUMMARY:TODAY: ESTATE ACREAGE AUCTION:  Saturday\, September 13th\, 2025     1350 Dove Road   Hebron\, NE.
DESCRIPTION:Click on the thumbnail to expand the photo. Be sure to visit each page of photos. \n			\n			\n				\n				\n				\n				\n			\n				\n				\n				\n				\n				\n				\n				\n				\n				\n				\n				ESTATE ACREAGE AUCTION:We are selling for the John R. Musgrave Estate \n*2013 Chevy Silverado 1500\, Model LS Pickup Truck\, 4×4\, 4.8L V8 Engine\, Blue\,  (1) Owner–25K Miles**2009 Cadillac Escalade ESV\, AWD\, (1) Owner–38\,500 Miles**1995 Chevy GMT-400\, K1500 Pickup Truck**1991 Wood Mfg. Co. Inc. Boat\, 50HP Motor**2002 Tandem Axle Utility Trailer**Yamaha 350 Big Bear\, 4×4 ATV**John Deere ST240 Riding Lawn Mower–135 hrs.**NEW Doctor Wood Chipper**(11) Firearms–Rifles & Shotguns**Hunting\, Fishing\, Knives & Ammo**Gold Jewelry & Gold Watch**Home Furnishings* \nSaturday\, September 13th\, 2025     10:00 AM     Preview 8:30 AM1350 Dove Road–Auction held at the Stastny Community Center     Hebron\, Nebraska \n**If you are planning on purchasing a firearm\, please bring your Permit to Purchase\, your Concealed Handgun Permit or your FFL License.** \nAUCTION TO INCLUDE: \n2013 Chevy Silverado 1500\, Model LS Pickup Truck\, 4×4\, 4.8L V8 Engine\, Blue\, (1) Owner –25K Miles2009 Cadillac Escalade ESV\, AWD\, Leather Interior\, (1) Owner–38\,500 Miles1995 Chevy GMT-400\, K1500 Pickup Truck1991 Wood Mfg. Co. Inc. Boat\, 50HP MotorJohn BoatNew Minn Kota Electric Boat Motor \n2002 Tandem Axle Utility Trailer–will need a neck deckYamaha 350 Big Bear\, 4×4 ATVAluminum RampsJohn Deere ST240 Riding Lawn Mower–135 hrs.NEW Doctor Wood ChipperStihl MS280 & 025 Gas Chain SawsDeWalt Heavy Duty Chop SawGalvanized Water TankFiberglass Water Tank \n**If you are planning on purchasing a firearm\, please bring your Permit to Purchase\, your Concealed Handgun Permit or your FFL License.** \n(11) Firearms–Rifles & Shotguns: \n1)  22 Short Cal.\, Winchester\, Model 1890\, Pump Action Rifle                                 Ser. #4776702)  22 L-S-LR Cal.\, Remington\, Pump Action Rifle                                                    Ser. #RW541363)  30-06 Sprg. Cal.\,  Remington\, Model 760 Gamemaster\, Pump Action Rifle      Ser. #2974464)  22 S-L-LR Cal.\, Marlin\, Model 39-A\, Lever Action Rifle                                       Ser. #E20555)  22 LR Cal.\, Marlin\, Model 60\, Semi-Auto Rifle                                                      Ser. #083314556)  30-06 Cal.\, Remington\, Model 700\, Bolt Action Rifle                                           Ser. #6221332 \n  7)  20 Ga.\, Winchester\, Model 12\, Pump Action Shotgun                                              Ser. #1238227  8)  20 Ga.\, Winchester\, Model 1300\, Vent Rib\, Pump Action Shotgun                           Ser. #L2577969  9)  12 Ga.\, Winchester\, Model 12\, Pump Action Shotgun                                              Ser. #108245210)  12 Ga.\, Remington\, Model 870 Express\, Vent Rib\, Pump Action Shotgun               Ser.W684629M11)  20 Ga.\, New England\, Model Pardner SB1\, Single Shot Shotgun                            Ser. #NF385322 \nAmmo BoxesHunting\, Fishing\, & AmmoKnives:  Military\, Pocket KnivesFishing Rods & CasesFishing ReelsFishing Tackle \nBulova 14 K Gold WatchGOLD Rings\, Charms\, Award Pin & Dental GoldQuilt\, Wool BlanketCrocks \nHome FurnishingsLeather SofasSony Flat Screen TVArtwork\, Water Colors & PicturesWildlife PicturesBedroom & Living Room FurnitureSome KitchenwaresCast Iron CookwareMode Danish Stainless FlatwareLenox “Orleans” Pattern ChinaVintage 1960’s 1990’s Playboy MagazinesAutographed UNL FootballsUNL ProgramsTaxidermy Fish & PheasantWildlife Sculptures–Mostly from Pheasants ForeverMarblesGamesAir PistolSam Snead Golf ClubsStamp Albums \nWe are selling for the John R. Musgrave Estate \nWe accept cash\, checks or credit card payments.Credit card payments have a 5% convenience fee added to your total. \n			\n			\n				\n				\n				\n				\n			\n				\n				\n				\n				\n				\n				\n				\n				\n				\n				\n				Thank You for Attending!\nFORD & FORD AUCTIONEERS\, INC.\nNorman L. Ford – Founder   |   Gregory A. Ford – Salesman\n1-402-475-7312\n2000 West Denton Road Lincoln\, NE 68523\nquestions@fordfordauctioneers.com
URL:https://fordford.net/event/estate-acreage-auction-saturday-august-16th-2025_____750-dove-road-hebron-ne/
LOCATION:1350 Dove Road\, 1350 Dove Road\, Hebron\, NE
CATEGORIES:Auction
ATTACH;FMTTYPE=image/jpeg:https://fordford.net/wp-content/uploads/2025/07/IMG_4659.jpg
END:VEVENT
END:VCALENDAR