BEGIN:VCALENDAR
VERSION:2.0
PRODID:-//Ford &amp; Ford Auctioneers - ECPv6.15.20//NONSGML v1.0//EN
CALSCALE:GREGORIAN
METHOD:PUBLISH
X-ORIGINAL-URL:https://fordford.net
X-WR-CALDESC:Events for Ford &amp; Ford Auctioneers
REFRESH-INTERVAL;VALUE=DURATION:PT1H
X-Robots-Tag:noindex
X-PUBLISHED-TTL:PT1H
BEGIN:VTIMEZONE
TZID:America/Chicago
BEGIN:DAYLIGHT
TZOFFSETFROM:-0600
TZOFFSETTO:-0500
TZNAME:CDT
DTSTART:20240310T080000
END:DAYLIGHT
BEGIN:STANDARD
TZOFFSETFROM:-0500
TZOFFSETTO:-0600
TZNAME:CST
DTSTART:20241103T070000
END:STANDARD
BEGIN:DAYLIGHT
TZOFFSETFROM:-0600
TZOFFSETTO:-0500
TZNAME:CDT
DTSTART:20250309T080000
END:DAYLIGHT
BEGIN:STANDARD
TZOFFSETFROM:-0500
TZOFFSETTO:-0600
TZNAME:CST
DTSTART:20251102T070000
END:STANDARD
BEGIN:DAYLIGHT
TZOFFSETFROM:-0600
TZOFFSETTO:-0500
TZNAME:CDT
DTSTART:20260308T080000
END:DAYLIGHT
BEGIN:STANDARD
TZOFFSETFROM:-0500
TZOFFSETTO:-0600
TZNAME:CST
DTSTART:20261101T070000
END:STANDARD
END:VTIMEZONE
BEGIN:VEVENT
DTSTART;TZID=America/Chicago:20251018T110000
DTEND;TZID=America/Chicago:20251018T170000
DTSTAMP:20260425T163624
CREATED:20250929T164013Z
LAST-MODIFIED:20251018T101736Z
UID:10000108-1760785200-1760806800@fordford.net
SUMMARY:TODAY:  BRAND NEW GOLD INFORMATION!!:  ESTATE AUCTION:  Saturday\, October 18th\, 2025_______315 No. 29th Street
DESCRIPTION:Click on the thumbnail to expand the photo. Be sure to visit each page of photos. \n			\n			\n				\n				\n				\n				\n			\n				\n				\n				\n				\n				\n				\n				\n				\n				\n				\n				(BRAND NEW INFORMATION HAS BEEN POSTED BELOW.!!)**(50 Piece of Gold Jewelry!!)**(3) Gold Watches****(12) GOLD Coins–Set in Gold Jewelry****(1) Full Case of Sterling\, Turquoise Jewelry****Tiffany & Co. Indian Belt Buckle**\nNEW:  ESTATE AUCTION:We are selling for the Phyllis F. Roberts Estate.. \n*2020 Ford Escape Sport\, Model SE\, AWD\, Blue\, Super Clean\, (1) Owner–18K Miles**Antiques**Primitives & Collectibles**Lots of Turquoise Jewelry**Gold Rings*   *Gold Watch*   *Sterling Jewelry**Coin Jewelry**RR Lanterns\, Memorabilia & Misc.**WW I & II Items**Watches*\n**7/8 Showcases full of Gold\, Sterling & Turquoise Jewelry & Collectibles****Belt Buckles\, Badges\, WWI & WWII Items*\nSaturday\, October 18th\, 2025   11:00 AM     Preview 10:00 AM315 No. 29th Street      Lincoln\, NE\nAuction Directions:At the intersection of No. 29th & “O” Streets\,Travel North on No. 29th Street for (3) blocks to the auction site. \nAdditional photos & Information have been posted today:   Friday\, October 17th.\n(BRAND NEW INFORMATION HAS BEEN POSTED BELOW.!!)**(50 Piece of Gold Jewelry!!)****(3) Gold Watches****(12) GOLD Coins–Set in Gold Jewelry****(1) Full Case of Sterling\, Turquoise Jewelry****Tiffany & Co. Indian Belt Buckle**\n#1-48:  Gold Rings & Jewelry \n#51.  GOLD:  1929\, 50 Gold Peso Coin\, set in 14K Gold Pendant  (1.20 oz. in Gold Coin)     (Approximately 9.9g of 14K Gold in Pendant) #52.  GOLD:  10K Gold Chain  (14.2 grams) #53.  GOLD:  1959\, 20 Gold Peso Coin\, set in 14K Gold Pendant                                             (Approximately 4.53g of 14K Gold in Pendant) #54.  GOLD:  (2) 1945\, 2 1/2 Gold Peso Coins\, set in Gold Earrings                                         (Approximately 1.434g of Gold in Earrings) #55.  GOLD:  (2) 1945\, 2 Gold Peso Coins\, set in Gold Earrings                                               (Approximately 1.268g of Gold in Earrings) #56.  GOLD:  1911\, $5.00 Gold Indian Coin\, set in 14K Gold Ring                                            (Approximately 8.591g of 14K Gold in Ring) #57.  GOLD:  1907\, 2.50 Liberty Gold Coin\, set in 14K Gold Ring                                             (Approximately 9.111g of 14K Gold in Ring) #58.  GOLD:  1945\, 2 1/2 Gold Peso Coin\, set in 14K Gold Ring                                               (Approximately 2.083g of 14K Gold in Ring) #59.  GOLD:  1945\, 2 1/2 Gold Peso Coin\, set in 14K Gold Ring                                               (Approximately 6.917g of 14K Gold in Ring) #60.  GOLD:  $1.00 Gold Liberty Coin\, set in Gold Tie Tack                                                      (Approximately 3.528g of 14K Gold in Tie Tack) #61.  GOLD:  1853\, $1.00 Gold Liberty Coin\, set in Pin                                                               (This coin is not set in Gold) \nMilitary Ammo CansMisc. Firearms ItemsBinocularsThe Lone Ranger Lunch Box with ThermosMarblesHatchets1917 Metal Picture FrameGeorge Washington & Abraham Lincoln Pictures/Frames \nOak Side by Side Cabinet–with Writing DeskStepback Kitchen CupboardIce Cream Table & Chair SetsWalnut Dresser w/Fruit Pull HandlesChimney CabinetMetal Wash BasinEastlake Bed & Matching DresserCedar Wardrobe \nUltra-Suede ReclinerVery Clean SofaSony Flat Screen TVSm. Kitchen AppliancesSingle Day Bed \nRoberts Milk ClockRR Lanterns\, Watches\, Badges & CollectiblesRR Bridge SignCast Iron Coffee GrinderKerosene LanternsKitchen Primitives & CollectiblesMantle ClockOak Kitchen ClockGeo. H. Burton Jeweler School ClockCorning & Corelle Old Watering Can \nNewer Train SetsMexican GuitarOlder ViolinMisc. DollsButtonsStamp CollectionMatch Collection \nNEW ADDITIONAL ITEMS:\n  \nDempster Adv. Windmill Horse Weight Heavy\, Metal Eagle Heavy\, Metal California Bell Old 1920’s & 30’s License Plates Moriagi Dragon Ware\nGold RingsGold PinsBlack Hills GoldSterling JewelryTurquoise Jewelry–Squash Blossoms\, Lg. Belt Buckles\, Necklaces\, Bracelets\, Rings & MoreCoin JewelryCostume Jewelry \nPocket WatchesWrist Watches–Men’s & Women’sWatch FobsMedals & BadgesBelt BucklesMorgan & Peace Silver Dollar Jewelry**We have (1) 50 Peso Gold Mexico Coin\, 1.20 oz. Gold***We also have (12)\, Gold Coins Set in Pendants\, Rings & Earrings.** \nRR Memorabilia RR Lanterns RR Pins\, Detective Badge MoPack Cream Bottles Leahy Railway Distance Maps RR Pictures & Time Tables \nChild’s School Desk Toy Tops Pez Dispensers Vinyl Dolls Cow Cookie Jar \nNative American Artifacts Odd Gear Shift Knobs Hatchets Knives Canes The Roll of Honor Roster\, 1917 Troop “G”\, 7th US Cavalry Poster The Soldier’s Record–Dated November 29th\, 1915 WW I & II Items–Soldier Tin Type\, Utensils\, \, Horse Bit\, Spurs\, Buttons\, Military Infantry Drill Regulations Book–1911\, Comic Books\, Small Books Comic Books Old Montgomery Catalogue Babe Ruth Sports Magazine Tourist Flag Sets \nHand Tools Lawn & Garden Electric Mower & Rototiller \n*2020 Ford Escape Sport\, Model SE\, AWD\, Blue\, Super Clean\, (1) Owner–18K Miles*The vehicle will sell around 12:30 pm.\n  \n  \n			\n			\n				\n				\n				\n				\n			\n				\n				\n				\n				\n				\n				\n				\n				\n				\n				\n				Thank You for Attending!\nFORD & FORD AUCTIONEERS\, INC.\nNorman L. Ford – Founder   |   Gregory A. Ford – Salesman\n1-402-475-7312\n2000 West Denton Road Lincoln\, NE 68523\nquestions@fordfordauctioneers.com
URL:https://fordford.net/event/new-estate-auction-saturday-october-18th-2025_______315-no-29th-street/
LOCATION:315 No. 29th Street\, 315 No. 29th Street\, Lincoln\, NE
CATEGORIES:Estate Auction
ATTACH;FMTTYPE=image/jpeg:https://fordford.net/wp-content/uploads/2025/10/Resized_20251002_160129.jpeg
END:VEVENT
END:VCALENDAR