BEGIN:VCALENDAR
VERSION:2.0
PRODID:-//Ford &amp; Ford Auctioneers - ECPv6.15.20//NONSGML v1.0//EN
CALSCALE:GREGORIAN
METHOD:PUBLISH
X-ORIGINAL-URL:https://fordford.net
X-WR-CALDESC:Events for Ford &amp; Ford Auctioneers
REFRESH-INTERVAL;VALUE=DURATION:PT1H
X-Robots-Tag:noindex
X-PUBLISHED-TTL:PT1H
BEGIN:VTIMEZONE
TZID:America/Chicago
BEGIN:DAYLIGHT
TZOFFSETFROM:-0600
TZOFFSETTO:-0500
TZNAME:CDT
DTSTART:20240310T080000
END:DAYLIGHT
BEGIN:STANDARD
TZOFFSETFROM:-0500
TZOFFSETTO:-0600
TZNAME:CST
DTSTART:20241103T070000
END:STANDARD
BEGIN:DAYLIGHT
TZOFFSETFROM:-0600
TZOFFSETTO:-0500
TZNAME:CDT
DTSTART:20250309T080000
END:DAYLIGHT
BEGIN:STANDARD
TZOFFSETFROM:-0500
TZOFFSETTO:-0600
TZNAME:CST
DTSTART:20251102T070000
END:STANDARD
BEGIN:DAYLIGHT
TZOFFSETFROM:-0600
TZOFFSETTO:-0500
TZNAME:CDT
DTSTART:20260308T080000
END:DAYLIGHT
BEGIN:STANDARD
TZOFFSETFROM:-0500
TZOFFSETTO:-0600
TZNAME:CST
DTSTART:20261101T070000
END:STANDARD
END:VTIMEZONE
BEGIN:VEVENT
DTSTART;TZID=America/Chicago:20251026T110000
DTEND;TZID=America/Chicago:20251028T170000
DTSTAMP:20260425T144843
CREATED:20250929T151612Z
LAST-MODIFIED:20260310T193213Z
UID:10000107-1761476400-1761670800@fordford.net
SUMMARY:TODAY:  REAL ESTATE AUCTION:  Sunday\, October 26\, 2025_____315 No. 29th Street      Lincoln\, NE.
DESCRIPTION:Click on the thumbnail to expand the photo. Be sure to visit each page of photos. \n			\n			\n				\n				\n				\n				\n			\n				\n				\n				\n				\n				\n				\n				\n				\n				\n				\n				THIS PROPERTY SOLD FOR $116\,000.00 on 10/26/2025.\nREAL ESTATE AUCTION:(2) Story Home\nWe are selling for the Phyllis F. Roberts Estate.. \nSunday\, October 26th\, 2025315 No. 29th Street     Lincoln\, NE \nAuction @ 1:00 PM          Preview @ 11:00 AM \nAuction Directions:At the intersection of No. 29th & “O” Streets\,Travel North on No. 29th (3) Blocks to the auction site.(Look for Auction Arrow signs.) \nAuction Notice:\n  \nThis property sells to the ABSOLUTE HIGHEST BIDDER!! \nREAL ESTATE AUCTION:Sunday\, October 26th\, 2025315 No. 29th Street     Lincoln\, NE.1:00 PM     with Preview at 11:00 AM \n  \n(2) Story\, Framed Home.(1) Bedroom on the Main Floor.Formal Living Room.Formal Dining Area.1/2 Bath on Main Floor.Recently Remodeled Bathroom in Second Floor.(2) Bedrooms on Second Floor.(3) Fixture Bathroom on Second Floor.Additional Full Kitchen on Second Floor. \nApproximately 1/2 of the basement has been replaced with block foundation. \nBuilt in 1900.1584 Total Square Feet.Replaced HVAC System.Replaced Hot Water Heater.All the Windows in the home have been replaced. \nPine Hardwood Floors.Washer & Dryer Located on the Main Floor. \n(1) Stall Garage with 216 Square Feet.Small Out Building.Enclosed Front Porch with 176 Square Feet. \nITEMS SOLD WITH THE HOUSE:All Appliances.Drapery. \nClose to Shopping.Close to Schools.Close to Restaurants. \nLegal Description:  Sunnyside Addition\, Block 3\, Lot 7\, N 1.2.Property ID:  17 – 19  -320 – 016 – 000Property Class: (Residential Improved)Primary Use:  Single FamilyZoning: R5 – Residential DistrictNeighborhood:  7LNT200 – Hartley – Low \nTERMS: 10% Down Day of Sale with Balance in 45 Days.This Property Sells to the ABSOLUTE HIGHEST BIDDER!! \nWe are selling for the Phyllis F. Roberts Estate. \n  \nNEW INFORMATION REGARDING TO THE HOME:The dryer was purchased in 2019.The washing machine & refrigerator were purchased in 2015.The custom windows were replaced in 2000 & 2001.HVAC installed in 2018.New humidifier installed in 2020. \n  \nFor further information or to make an appointment to see the home\, call 402-475-7312. \nGregory A. Ford–Salesman          1867 Collective–BROKER \nGregory A. Ford–President          Norman L. Ford–FounderFord & Ford Auctioneers\, Inc.2000 W. Denton RoadLincoln\, NE.     68523402-475-7312 \n  \n \n  \n			\n			\n				\n				\n				\n				\n			\n				\n				\n				\n				\n				\n				\n				\n				\n				\n				\n				Thank You for Attending!\nFORD & FORD AUCTIONEERS\, INC.\nNorman L. Ford – Founder   |   Gregory A. Ford – Salesman\n1-402-475-7312\n2000 West Denton Road Lincoln\, NE 68523\nquestions@fordfordauctioneers.com
URL:https://fordford.net/event/new-real-estate-auction-sunday-october-26-2025_____315-no-29th-street-lincoln-ne/
LOCATION:315 No. 29th Street\, 315 No. 29th Street\, Lincoln\, NE
CATEGORIES:Real Estate Auction
ATTACH;FMTTYPE=image/jpeg:https://fordford.net/wp-content/uploads/2025/10/IMG_5504.jpg
END:VEVENT
END:VCALENDAR