BEGIN:VCALENDAR
VERSION:2.0
PRODID:-//Ford &amp; Ford Auctioneers - ECPv6.15.20//NONSGML v1.0//EN
CALSCALE:GREGORIAN
METHOD:PUBLISH
X-ORIGINAL-URL:https://fordford.net
X-WR-CALDESC:Events for Ford &amp; Ford Auctioneers
REFRESH-INTERVAL;VALUE=DURATION:PT1H
X-Robots-Tag:noindex
X-PUBLISHED-TTL:PT1H
BEGIN:VTIMEZONE
TZID:America/Chicago
BEGIN:DAYLIGHT
TZOFFSETFROM:-0600
TZOFFSETTO:-0500
TZNAME:CDT
DTSTART:20240310T080000
END:DAYLIGHT
BEGIN:STANDARD
TZOFFSETFROM:-0500
TZOFFSETTO:-0600
TZNAME:CST
DTSTART:20241103T070000
END:STANDARD
BEGIN:DAYLIGHT
TZOFFSETFROM:-0600
TZOFFSETTO:-0500
TZNAME:CDT
DTSTART:20250309T080000
END:DAYLIGHT
BEGIN:STANDARD
TZOFFSETFROM:-0500
TZOFFSETTO:-0600
TZNAME:CST
DTSTART:20251102T070000
END:STANDARD
BEGIN:DAYLIGHT
TZOFFSETFROM:-0600
TZOFFSETTO:-0500
TZNAME:CDT
DTSTART:20260308T080000
END:DAYLIGHT
BEGIN:STANDARD
TZOFFSETFROM:-0500
TZOFFSETTO:-0600
TZNAME:CST
DTSTART:20261101T070000
END:STANDARD
END:VTIMEZONE
BEGIN:VEVENT
DTSTART;TZID=America/Chicago:20251214T110000
DTEND;TZID=America/Chicago:20251214T170000
DTSTAMP:20260425T131044
CREATED:20251109T155930Z
LAST-MODIFIED:20260324T220547Z
UID:10000117-1765710000-1765731600@fordford.net
SUMMARY:TODAY:  MILITARIA & MEMORABILIA AUCTION:  Sunday\, December 14th\, 2025_____5353 No. 27th Street     Lincoln\, NE.
DESCRIPTION:Click on the thumbnail to expand the photo. Be sure to visit each page of photos. \n			\n			\n				\n				\n				\n				\n			\n				\n				\n				\n				\n				\n				\n				\n				\n				\n				\n				MILITARIA & MEMORABILIA AUCTION:\n*WWI  &  WWII Military Memorabilia**Some Civil War Era Items**Post WW II Military**Highly Collectible Japanese Sword**Daggers\, Bayonets\, Knives & Swords**German Folding Dagger–German SS**Military Helmets**Huge Selection of Uniforms & Accessories**Badges & Insignias**Trench Art* \nSunday\, November 14th\, 2025     11:00 AM     Preview 9:00 AM 5353 No. 27th Street     Lincoln\, NE (Auction held at the Country Inn & Suites–Lower Level) \nWe are selling for a local estate and private collection.. \n  \nAuction Directions:At the intersection of No. 27th & Superior Streets\,Travel North to Folkways Blvd.\, Turn West to No. 26th Street\,Turn Left/South to the end of the Country Inn & Suites Building.Auction held in the lower level.(Look for Auction Arrow signs.) \nAuction Notice:Make sure to check out all the photos!!\nWe just posted a detailed listing below and make sure to see all the photos. \nAuction Itinerary:WWI  &  WWII Militaria  MemorabiliaSome Civil War Era ItemsPost WW II Military\nHighly Collectible Japanese SwordUS Daggers\, Bayonets\, Knives & SwordsGerman Folding Dagger–German SSGerman Knives  Bayonets\n  \nMilitary HelmetsAviator HelmetsField EquipmentHuge Selection of Uniforms\, Clothing\, Hats & AccessoriesSterling Military PinsMedals & DecorationsInsignia Patches & Rank BadgesService Medals & Combat AwardsCollar Patches\, Cap Badges\, Party Membership PinsBelt BucklesArm BandsToy Gun Key ChainsPaper Memorabilia \nTrench ArtShovels & CanteensUS Marine Flake Cut BoxColeman Military Heating Unit \nMagazines8MM Ammo & Military PouchesLeather Rifle Cases \n  \nSwords:–US J.H. 1861\, by James MFc.Co. Chicopee\, Army Infantry w/Metal Scabbard marked DFM— A.D.K. 1865\, by James MFc.Co. Chicopee\, Army Calvery w/Metal Scabbard–Japanese\, Tag described 1920’s/1930’s Navy Sword?–Japanese\, 64 over 64683 Stamped on Blade\, Tang has 1 3 marking \nBayonets:–No. 9MK1 B-53 \, serial 319389\, w/Metal Scabbard (fits No. 4 MK1 Longbranch 1945)–Modelo Argentino 1909\, Ser. #N9833\, Weyesberg Krschbaum & Co. Solingen–German 44ffc\, ser. #2482 d\, w/Metal Scabbard–1907 Sanderson\, with Leather Scabbard–American Fork & Hoe Co. 1943-1945 and 1953 M1 U.S. with U.S. Fiberglass Scabbard (Fits 1903       and 1903A3)–Remington M1917 || SHELL\, FLAME\, and EAGLE with 25 and U.S. || with Metal and Leather      Scabbard (GF) on metal mounts–Remington M1917 || SHELL\, FLAME\, and EAGLE with 28 and U.S. || with Fiberglass Scabbard      US-M1917 B.M. CO.–SA FLAME 1917 || US serial 682797 || with Fiberglass Scabbard 9 under B—N || U.S. in SHELL      and FLAME || (Fits 1903 and 1903A1)–ALEX COPPEL SOLINGEN\, no serial with Metal Scabbard no serial–National Denki under Kokura supervision || Stamped 35656 on Pommel || with Metal Scabbard–Unknown Japanese Production\, Pre-1943 || with Metal Scabbard–Nagoya Arsenal\, second series || Stamped 5 7933 on Pommel || with Metal Scabbard–GERMAN PARADE\, no serial with Leather Scabbard and Frog no serial–GERMAN PARADE RICH.ABR.HERDER SOLIGEN\, no serial with Metal Scabbard no serial–GERMAN PARADE no markings || Serrated Spine\, no serial with Metal Scabbard\, Leather Frog\,and no serial–GERMAN SHUBERT u. SALZER ??SCHINENFABRIK CHEMNITZ || GOTTLIEB HAMMESFAHR–SOLINGEN FOCHE\, serial 1496 with Metal Scabbard\, Leather Frog\, and no serial–GERMAN ELITE DIAMANT || 5978 d || Spine 39 || with Metal Scabbard\, Leather Frog\, and serial 8237–GERMAN || Tang Spine CG B63929 || with Metal Scabbard–GERMAN ERNST BUSCH SOLINGEN || with Metal Scabbard\, homemade Frog\, and F.G. GY.      Stamped on clip–GERMAN PARADE no serial with Metal Scabbard and no serial–GERMAN S/185 || 6647 i || Spine 36 || with Metal Scabbard\, Leather Frog\, and no serial–GERMAN 42ASW || 1729 l || with Metal Scabbard\, Leather Frog\, and serial 4682 K–GERMAN 43ASW || 1750 u || no Scabbard–GERMAN CE WG || serial on pummel F 11841 || with Metal Scabbard no serial–U.S. M5–U.S. M5A1–U.S. M6–U.S. M7 \nGas Masks:–U.S. Field Protective Mask M9A1 LL–U.S. Army Lightweight Service Mask–U.S. Army Service Gas Mask–Unknown Protective Mask–U.S. Mask\, Protective\, NonCombat CD V-800 size 4–German Gas Mask 1941 || 192 1941 || Canister avp 1942–German Gas Mask 1939 || FE41 1941 || Canister H.A.E.S. 1939 5771\n  \nCover:–East German Enlisted Visor Hat size Med. 58–East German Enlisted Visor Hat size Med. 57–1937 German Gefr. Eckhoff &gt;4.Battr.I/Flakreg.26 || Visor Hat Med. 58 \nHelmets:High elevation Flight helmetU.S. Pot with composite liner stamped SW 74British WWII stamped 1943 \nFolding ShovelsBrass Bell\, NavyBOMB PRACTICE 25lbs. MARK 76 MOD.2Germany 1940’s Mine Field Flags \nKnives:–USMC K-Bar–U.S.N. Mark 1–U.S. M3-UTICA–Remington RH 73–LEO 1943–Schrade H-15–GERMAN F.HERDER A.S. SOLINGEN || Wf on handguard || Wes fur Deutlchland || with Metal Scabbard–GERMAN CARL EICKHORN SOLINGEN || RZM M7/66/34 Streifendie \nTents:1940-41 Single1941 Single \nCanteens:1918-2002One is from WW II with Black Porcelain covering \nBags:Empty U.S. Field Protective Mask5.56 light 10 round sling5.56 magazine with grenade pouch \nNew Items:–Unknown (cannot find any Stamps) German Sword || Hinged Hand Guard || no Scabbard–Japanese Bayonet: Kokura Arsenal (1935-1942) || Type 30 || Stamped 30 20374 on Pummel ||       with Metal Scabbard–Unknown (cannot find any Stamps) German Sword || Hinged Hand Guard || Tip had been      remodeled || with Metal Scabbard–German Dress Saber || F.W. HOLLER SOLINGEN || with Metal Scabbard\, repair near tip–German Dress Dagger || Bent at hand guard\, broken grip || with Metal Scabbard      Antler Handle hunting knife || with Leather Sheath \n–WW I 1909 Hospital Corps Bolo || U.S. over 11834–WW I 1909 Hospital Corps Bolo || U.S. over 12739–J. LOWE || The Great (Far West Hunting) Knife || Stag Antler handle \n \n  \n  \n			\n			\n				\n				\n				\n				\n			\n				\n				\n				\n				\n				\n				\n				\n				\n				\n				\n				Thank You for Attending!\nFORD & FORD AUCTIONEERS\, INC.\nNorman L. Ford – Founder   |   Gregory A. Ford – Salesman\n1-402-475-7312\n2000 West Denton Road Lincoln\, NE 68523\nquestions@fordfordauctioneers.com
URL:https://fordford.net/event/new-military-auction-sunday-december-14th-2025_____5353-no-27th-street-lincoln-ne/
LOCATION:5353 No. 27th Street Lincoln\, NE\, 5353 No. 27th Street\, Lincoln\, NE\, 68521
CATEGORIES:Estate Auction
ATTACH;FMTTYPE=image/jpeg:https://fordford.net/wp-content/uploads/2025/11/IMG_0222.jpg
END:VEVENT
END:VCALENDAR