BEGIN:VCALENDAR
VERSION:2.0
PRODID:-//Ford &amp; Ford Auctioneers - ECPv6.15.20//NONSGML v1.0//EN
CALSCALE:GREGORIAN
METHOD:PUBLISH
X-WR-CALNAME:Ford &amp; Ford Auctioneers
X-ORIGINAL-URL:https://fordford.net
X-WR-CALDESC:Events for Ford &amp; Ford Auctioneers
REFRESH-INTERVAL;VALUE=DURATION:PT1H
X-Robots-Tag:noindex
X-PUBLISHED-TTL:PT1H
BEGIN:VTIMEZONE
TZID:America/Chicago
BEGIN:DAYLIGHT
TZOFFSETFROM:-0600
TZOFFSETTO:-0500
TZNAME:CDT
DTSTART:20230312T080000
END:DAYLIGHT
BEGIN:STANDARD
TZOFFSETFROM:-0500
TZOFFSETTO:-0600
TZNAME:CST
DTSTART:20231105T070000
END:STANDARD
BEGIN:DAYLIGHT
TZOFFSETFROM:-0600
TZOFFSETTO:-0500
TZNAME:CDT
DTSTART:20240310T080000
END:DAYLIGHT
BEGIN:STANDARD
TZOFFSETFROM:-0500
TZOFFSETTO:-0600
TZNAME:CST
DTSTART:20241103T070000
END:STANDARD
BEGIN:DAYLIGHT
TZOFFSETFROM:-0600
TZOFFSETTO:-0500
TZNAME:CDT
DTSTART:20250309T080000
END:DAYLIGHT
BEGIN:STANDARD
TZOFFSETFROM:-0500
TZOFFSETTO:-0600
TZNAME:CST
DTSTART:20251102T070000
END:STANDARD
END:VTIMEZONE
BEGIN:VEVENT
DTSTART;TZID=America/Chicago:20240804T130000
DTEND;TZID=America/Chicago:20240804T130000
DTSTAMP:20260425T201209
CREATED:20240902T152303Z
LAST-MODIFIED:20250408T161026Z
UID:10000013-1722776400-1722776400@fordford.net
SUMMARY:REAL ESTATE AUCTION: 3318 Orchard Street\, Lincoln\, NE
DESCRIPTION:Final Results:\nThis property sold for $142\,000.00\non 08-04-24\n			\n				\n				\n				\n				\n				REAL ESTATE AUCTION: (2) Bedroom Home\, Sunday\, August 4\, 2024\, 3318 Orchard Street\, Lincoln\, NE\nREAL ESTATE AUCTION: We are selling for Teresa J. Schultz. \nAuction @ 1:00 PMAuction held at location. \nFeaturing: \nReal Estate Auction– (2) Story Home(2) Bedroom**This home has very good potential.** \nFor Detailed Itinerary/Catalogues please send $5 for each day to our office and specify which day/s you wish to receive. \nAuction Location & Details\n3318 Orchard Street\, Lincoln\, Nebraska\, (East Campus Area) \nAuction Directions:From the intersection of No. 33rd & Orchard Street\,Turn East onto Orchard Street to auction site.ORFrom the intersection of No. 34th & Holdrege Street\,Travel South on No. 34th to Orchard Street\,Turn Right/West to auction site. \nAuction Notice\nWe have not posted photos of this home yet. \nAuction Itinerary\n(2) Framed Home.(2) Bedrooms–A Correction has been made on the number of bedrooms. \nBuilt in 1930.1387 SF.Oak Hardwood Floors. \nSeparate Living Room & Dining Room Areas.Large Kitchen.(1)  3 Fixture Bath.(1) 2 Fixture Bath.HVAC Unit.Full Block Foundation \n(1) Stall Garage w/308 SF.The Roof has been replaced.**This home will need some remodeling.** \nLegal Description:  Woods Bros University Addition\, Block 4\, Lot 11Property ID:  17-19-209-011-000Property Class:  ( Residential Improved )Primary Use: (Single Family)Zoning:  R2 – Residential DistrictNeighborhood:  7LNT211 – East Campus – Low \nTERMS: 5% Down Day of Sale with Balance in 45 Days.This Property Sells Subject to the Mortgage and Expenses Related to Closing. \nTo View This Property or For Additional Information\,Please Call: 402-475-7312. \nGregory A. Ford—SalesmanREAL ESTATE BROKERED BY 1867 COLLECTIVE. \n			\n			\n				\n				\n				\n				\n			\n				\n				\n				\n				\n				\n				\n				\n				\n				\n				\n				For further information\, please contact our office at 402-475-7312.\nFor Detailed Itinerary/Catalogues please send $5 for each day to our office and specify which day/s you wish to receive.\n			\n				\n				\n				\n				\n				Thank You for Attending!\nFORD & FORD AUCTIONEERS\, INC.\nNorman L. Ford – Founder   |   Gregory A. Ford – Salesman\n1-402-475-7312\n2000 West Denton Road Lincoln\, NE 68523\nquestions@fordfordauctioneers.com
URL:https://fordford.net/event/real-estate-auction-3318-orchard-street-lincoln-ne/
LOCATION:3318 Orchard\, St\, 3318 Orchard St\, Lincoln\, NE\, 68503
CATEGORIES:Auction,Estate Auction,Final Results,Real Estate Auction
ATTACH;FMTTYPE=image/png:https://fordford.net/wp-content/uploads/2024/05/real-estate-FORD.png
END:VEVENT
END:VCALENDAR