BEGIN:VCALENDAR
VERSION:2.0
PRODID:-//Ford &amp; Ford Auctioneers - ECPv6.15.20//NONSGML v1.0//EN
CALSCALE:GREGORIAN
METHOD:PUBLISH
X-ORIGINAL-URL:https://fordford.net
X-WR-CALDESC:Events for Ford &amp; Ford Auctioneers
REFRESH-INTERVAL;VALUE=DURATION:PT1H
X-Robots-Tag:noindex
X-PUBLISHED-TTL:PT1H
BEGIN:VTIMEZONE
TZID:America/Chicago
BEGIN:DAYLIGHT
TZOFFSETFROM:-0600
TZOFFSETTO:-0500
TZNAME:CDT
DTSTART:20240310T080000
END:DAYLIGHT
BEGIN:STANDARD
TZOFFSETFROM:-0500
TZOFFSETTO:-0600
TZNAME:CST
DTSTART:20241103T070000
END:STANDARD
BEGIN:DAYLIGHT
TZOFFSETFROM:-0600
TZOFFSETTO:-0500
TZNAME:CDT
DTSTART:20250309T080000
END:DAYLIGHT
BEGIN:STANDARD
TZOFFSETFROM:-0500
TZOFFSETTO:-0600
TZNAME:CST
DTSTART:20251102T070000
END:STANDARD
BEGIN:DAYLIGHT
TZOFFSETFROM:-0600
TZOFFSETTO:-0500
TZNAME:CDT
DTSTART:20260308T080000
END:DAYLIGHT
BEGIN:STANDARD
TZOFFSETFROM:-0500
TZOFFSETTO:-0600
TZNAME:CST
DTSTART:20261101T070000
END:STANDARD
END:VTIMEZONE
BEGIN:VEVENT
DTSTART;TZID=America/Chicago:20251213T110000
DTEND;TZID=America/Chicago:20251213T170000
DTSTAMP:20260424T063113
CREATED:20251020T123254Z
LAST-MODIFIED:20251213T092502Z
UID:10000110-1765623600-1765645200@fordford.net
SUMMARY:TODAY:  ESTATE FIREARMS AUCTION:  Saturday\, December 13th\, 2025_____5353 No. 27th Street     Lincoln\, NE.
DESCRIPTION:Click on the thumbnail to expand the photo. Be sure to visit each page of photos. \n			\n			\n				\n				\n				\n				\n			\n				\n				\n				\n				\n				\n				\n				\n				\n				\n				\n				ESTATE FIREARMS AUCTION:\nWe are selling for a local estate and a private collection.. \n*(125+) Firearms–Handguns\, Rifles & Shotguns**(55) Handguns**(41) Rifles**(28) Shotguns*\n*US Springfield Trap Door Rifles**Colt Revolver**Winchester & Browning**Remington 1911A1\, US Property Pistol**Inland M1Carbine*\n*Reloading Equipment**Bullets\, Brass\, Primers\, Powder**Precision Case Preparation Tools & Dies**Ammunition**Sentinel Gun Safe**Archery\, Compound Bows*\nSaturday\, December 13th\, 2025     11:00 AM     Preview 9:00 AM5353 No. 27th Street    Lincoln\, NE(Auction held at the Country Inn & Suites–Lower Level)\n \nAuction Directions: At the intersection of No. 27th & Superior Streets\,Travel North 1/4 mile to Folkways Blvd.\,Turn West on Folkways Blvd. for (1) Block\,Turn Left/South on No. 26th Street to the South end of the building. (Look for Auction Arrow signs.) \nAUCTION NOTICE:Remember to bring your License to Purchase Permit\, Concealed Handgun Permit or FFL License with you.All firearms sales will need one of these permits to allow you to purchase a firearm.\nAuction Itinerary:\nHANDGUNS TO INCLUDE:1.  22 LR Cal.\, Browning\, Model Buck Mark\, Semi-Auto Pistol\, Simmons 4×32 Scope\, Browning Soft Case                Ser. #515ZX174012.  9MM Cal.\, Rock Island\, Model M1911A2 FS-Tactical 2011\, Semi-Auto Pistol\, Competition Shooter\,                         Ser. #RIA1599208(1) Magazine\, with Hard Case3.  40 S&W Cal.\, Springfield Armory\, XDM-40\, Semi-Auto Pistol\, Burris Red Dot Sight\,                                                  Ser. #MG318447Original Case with Holsters & (2) Magazines4.  10MM Cal.\, Springfield Armory\, XDM-10\, Semi-Auto Pistol\, with Vortex Venom Red Dot Sight\,                                Ser. #AT107567Original Case with (2) Magazines5.  45 ACP Cal.\, Springfield Armory\, XDM-45 Semi Auto Pistol\, Vortex Venom Red Dot Sight\,                                       Ser. #MG679915Original Case with (2) Magazines6.  10MM Cal.\, Springfield Armory\, Model 1911 Operator\, Semi-Auto Pistol\, Vortex Venom Red Dot Sight\,                  Ser. #NM547114Original Case with (2) Magazines7.  32 Auto Cal.\, Beretta\, Model 3032 Tomcat\, Semi-Auto Pistol\, (2) Extra Magazines\, Laser Grip (New in Box)          Ser. #DAA4502248.  22 LR Cal.\, Beretta\, Model 21A Bobcat\, Semi-Auto Pistol\, (3) Extra Magazines\, Lock & Holster (Original Case)    Ser. #DAA5017969.  22 LR Cal.\, Beretta\, Model U22 Neos Green\, Semi-Auto Pistol\, (2) Extra Magazines\, Lock (New in Case)               Ser. #T4254910.  22 LR Cal.\, Beretta\, Model U22 Neos Purple\, Semi-Auto Pistol\, (2) Extra Magazines (New in Case)                       Ser. #T3809111.  25 Auto Cal.\, Taurus\, Model PT-25\, Semi-Auto Pistol\, Rosewood Grips (Like new in Plastic Case)                        Ser. #12531Z12.  22 LR Cal.\, Phoenix Arms\, Model HP22A\, Nickel Plate Semi-Auto Pistol\, Extra Magazine\, Barrel\,                          Ser. #4452352Pistol Lock\, Cleaning Kit (New in Locking Case)13.  22 LR Cal.\, Phoenix Arms\, Model HP22A\, Black/Blued Semi-Auto Pistol\, Extra Barrel\, Pistol Lock &                   Ser. #4484611Cleaning Kit (New in Locking Case)14.  22 LR Cal.\, Ruger\, Model LCR\, Semi-Auto Pistol\, Laser Grip (New in Soft Case)                                                     Ser. #548-5120315.  45 Colt/410 Ga.\, Bond Arms\, Model Century 2000\, Wood Grips\, Holster (New in Hard Case)                                 Ser. #13978916.  22 LR Cal.\, RG Industries\, Model RG23\, Semi-Auto Pistol\, Holster                                                                            Ser. #T63406217.  22 LR Cal.\, Sportarms\, Model Derringer                                                                                                                        Ser. #01058718.  22 Short Cal.\, Beretta\, Model 950B\, Semi-Auto Pistol                                                                                                  Ser. #C2191819.  25 ACP Cal.\, Colt\, Model Automatic\, Semi-Auto Pistol                                                                                                Ser. #OD9566420.  22 Cal.\, Heritage\, Model Rough Rider\, Revolver\, with Holster                                                                                    Ser. #W2116621.  22 LR Cal.\, Tanarmi\, Model Buffalo Scout\, Revolver\, Extra 22 Cal.\, Mag. Cylinder\, with Original Box                   Ser. A7953522.  32 S&W Cartridge Cal.\, Model Young American\, Double Action Revolver                                                                 Ser. #41122323.  45 Cal.\, Colt\, Model DA\, (6) Shot Revolver\, Mfg. around 1920\, Soft Case                                                                  Ser. #27791524.  45 ACP Cal.\, Remington\, Model M1911A1\, United States Property Pistol\, Holster                                                   Ser. #222596925.  22 LR Cal.\, Heckler & Koch\, Model HK4\, Semi-Auto Pistol\, with Original Box                                                          Ser. #4900626.  22 LR Cal.\, Phoenix Arms Co.\, Semi-Auto Pistol                                                                                                         Ser. #422233027.  32 Long Cal.\, Taurus\, (6) Shot Revolver\, with Holster                                                                                                 Ser. #859990 28.  22 LR Cal.\, Harrington & Richardson\, Model 999\, (9) Shot Break Open Revolver                                                    Ser. #AY089076 29.  22 LR Cal.\, RG Industries\, Model RG14\, (5) Shot Revolver\, with Holster                                                                   Ser. #L786286 30.  32 S&W Long Cal.\, Harrington & Richardson\, Model 732\, Revolver (New in Box)                                                    Ser. #AY027206 31.  9MM Cal.\, Taurus\, Model PT 908\, Semi-Auto Pistol\, Stainless\, (1) Extra Magazine\, with Case                               Ser. #TNJ02754 32.  22 Long Cal.\, Hi-Standard\, Model HB\, Semi-Auto Pistol                                                                                             Ser. #310980 33.  22 Cal.\, Llama\, Semi-Auto Pistol                                                                                                                                   Ser. #669916 34.  22 LR Cal.\, Colt\, Model Challenger\, Semi-Auto Pistol                                                                                                 Ser. #56474-C 35.  22 LR Cal.\, Jennings\, Model J22\, Semi-Auto Pistol\, (2) Magazines\, Nickel with Ivory Grips (With Original Box) Ser. #693842 36.  22 Short Blanks\, Harrington & Richardson\, Model STR 022\, Starting Pistol                                                            Ser. #AX203413 37.  32 Rimless Cal.\, Colt\, Model Automatic\, Semi-Auto Pistol (No magazine)                                                               Ser. #201003 38.  357 Mag. Cal.\, Taurus\, Bright Stainless\, (6) Shot Revolver                                                                                        Ser. #NF962861 39.  22 LR Cal.\, EIG\, Derringer\, Chrome Plated                                                                                                                   Ser. #34409 40.  25 Cal.\, Colt\, Model Automatic\, Semi-Auto Pistol                                                                                                       Ser. #357206 41.  45 Long Colt/410 Ga.\, Taurus Night Court Judge\, Model 4510\, Revolver (New in Box)                                          Ser. #BT641804 42.  9MM Kurz/380 ACP Cal.\, Walther\, Model PPK/S\, Stainless\, Semi-Auto Pistol\, (2) Magazines (Original Case)     Ser. #S122126 43.  38 Spl. or 357 Mag. Cal.\, COP\, Stainless\, (4) Shot Pistol                                                                                            Ser. #008723 44.  45 Cal.\, Leinad Inc.\, Model DD\, Double Barrel-Side by Side Pistol                                                                           Ser. #M00010866 45.  22 Cal.\, JP Sauer & Sohn\, Western Marshall Revolver                                                                                               Ser. #15368/2 46.  22 Cal.\, Hi-Standard\, Model Double 9\, (9) Shot Revolver                                                                                           Ser. #959291 47.  357 Mag. Cal.\, Taurus\, (6) Shot Revolver                                                                                                                     Ser. #5135788 48.  32-20 WCF Cal.\, Colt\, Model Police Positive Special\, (6) Shot Revolver                                                                  Ser. #30755 49.  36 Cal.\, Black Powder Pistol\, Double Barrel                                                                                                                Ser. #0012331 50.  45 Cal.\, Black Powder Revolver51.  22 LR Cal.\, Ruger\, Automatic Pistol                                                                                                                              Ser. #15-1019152.  22 LR. Cal.\, Stoeger Luger\, Semi-Auto Pistol                                                                                                               Ser. #5551253.  22 Cal.\, Hi Standard\, Model Double-Nine\, (9) Shot Revolver                                                                                      Ser. #81983054.   Cal.\, Smith & Wesson\, Model DA45\, US Army Model 1917 Revolver\, Owner DC Watson                                       Ser. #7305255.  44 Cal.\, Walker\, 1847 Black Powder Revolver\, Made in Italy                                                                                       Ser. #1445656.  Old Double Barrel\, Black Powder Percussion Pistol \nRIFLES TO INCLUDE:57.  6.5 Creedmoor Cal.\, Bergara\, Model BMP\, Bolt Action Target Rifle\, Threaded Barrel\, No Sights\, w/Original Box Ser. #ES61-06-200965-1958.  22 LR Cal.\, CZ\, Model 455\, Bolt Action Rifle\, Burris 3×9 Zoom Scope\, with Original Box                                        Ser. #C54253459.  223-5.56 Cal.\, DPMS\, Model A-15\, Semi-Auto Rifle\, 2.5-10×40 Pinty Scope\, Laser Mount\, with Original Box         Ser. #DNWC04884060.  22 S-L-LR Cal.\, Browning\, Made in Japan\, Lever Action Rifle                                                                                      Ser. #70B2707161.  243 Win. Cal.\, Winchester\, Model 70 Featherweight\, Bolt Action Rifle\, Pre-64\, Custom Stock\, 4x Scope               Ser. #41412062.  243 Win. Mag. Cal.\, Winchester\, Model 70 Featherweight\, Pre-64 Bolt Action Rifle\, Custom Stock\,                       Ser. #551221Bausch & Lomb 2.5-8 Zoom Scope63.  300 Mag. Cal.\, Weatherby\, Mork V\, Bolt Action Rifle\, Simmon Scope                                                                         Ser. #P1180764.  25-06 Cal.\, Ruger\, Model M77\, Bolt Action Rifle\, Western Field Scope                                                                       Ser. #70-9805565.  45-70 Cal.\, US Springfield\, Model 1873\, Trap Door Rifle                                                                                               Ser. #381795 66.  45-70 Cal.\, US Springfield\, Model 1884\, Trap Door Rifle                                                                                               Ser. #52281 67.  45-70 Cal.\, US Springfield\, Model 1878\, Trap Door Rifle                                                                                              Ser. #439130 68.  1862 US Springfield\, Cap & Ball Musket 69.  Remington\, 1857 US Springfield Musket\, Chrome Plated 70.  30-40 Krag Cal.\, US Springfield\, Model 1898\, Bolt Action Rifle                                                                                   Ser. #433031 71.  45-70 Cal.\, Greiner\, Model 868?\,  Rotating Bolt Action Rifle 72.  30-06 Cal.\, Remington\, Model 1903\, Bolt Action Rifle                                                                                                  Ser. #3279095 73.  30 Carbine Cal.\, Inland Division\, M-1 Carbine\, Semi-Auto                                                                                           Ser. #5725169 74.  7.62 x 39 Cal.\, Norinco SKS\, Semi-Auto Rifle                                                                                                                Ser. #3145754 75.  7.62 x 54R Cal.\, Moisin Nagant\, 1942 Bolt Action Rifle                                                                                                 Ser. #37048 76.  7.62 x 54R Cal.\, M44\, Bolt Action Rifle\, 1955 with Bayonet                                                                                          Ser. #323431 77.  8MM?\, Steyr\, 1890 Bolt Action Rifle                                                                                                                               Ser. #4716t 78.  303 British Cal.\, No 4 MK1\, Enfield Rifle\, Longbranch 1945                                                                                        Ser. #81L3138 79.  8MM Mauser\, KAR 98\, Bolt Action Rifle\, Danzig 1918                                                                                                  Ser. #9353 80.  303 British Cal.\, No 4 MK1\, US Property Rifle  (Demilled)                                                                                            Ser. #68C8685 81.  7.7 x 58 Cal.\, Arisaka\, Model 99\, Bolt Action Rifle                                                                                                        Ser. #307782.  7.62 x 39 Cal.\, Norinco\, Model SKS\, Semi-Auto Rifle                                                                                                   Ser. #172027383.  7.62 x 39 Cal.\, Norinco\, Model SKS\, Semi-Auto Rifle                                                                                                   Ser. #162121284.  7.62 x 39 Cal.\, Norinco\, Model SKS\, Semi-Auto Rifle  (No Stock)                                                                                Ser. #160898985.  22 LR Cal.\, Ruger\, Model 10/22\, Carbine Rifle                                                                                                               Ser. #234-0897786.  22 S-L-LR Cal.\, Remington\, the Targetmaster\, Model 41-P\, Bolt Action Rifle87.  22 S-L-LR Cal.\, Wards Western Field\, Bolt Action Rifle88.  22 S-L-LR Cal.\, Stevens\, Model 84C\, Bolt Action Rifle89.  44 Cal.\, Iver Johnson\, Single Shot\, Smooth Bore Rifle                                                                                                 Ser. #15140 90.  44 Cal.\, Iver Johnson\, Single Shot\, Smooth Bore Rifle                                                                                                 Ser. #1657 91.  22 S-L-LR Cal.\, Winchester\, Model 67\, Single Shot Rifle 92.  22 Cal.\, Winchester\, Model 03\, Semi-Auto Rifle                                                                                                             Ser. #45042 93.  22 S-LR Cal.\, Remington\, Model 514\, Bolt Action Rifle 94.  22 S-L-LR Cal.\, Stevens\, Model 53C\, Single Shot\, Bolt Action Rifle 95.  22 Short Cal.\, Febiger Arms Co.\, Model No. 1\, Pump Action Rifle                                                                              Ser. #45496.  22 L-S-LR Cal.\, Henry\, Friend Fire Department Commemorative Rifle  (New in Box)  #31 of 31                              Ser. #T81851H 97.  177 Cal.\, Daisy Red Ryder\, Lever Action BB Gun  (With Box)98.  44/45 Cal.\, G.A. Nordhein\, Percussion Target Rifle 99.  44/45 Cal.\, Leman Langtree\, Black Powder Rifle100.  50 Cal.\, Cabela’s\, Black Powder Muzzle Loader                                                                                                          Ser. #416668101.  22 S-L-LR Cal.\, Ithaca\, Model M-49\, Lever Action Rifle                                                                                               Ser. #289286 102.  22 S-L-LR Cal.\, J.C. Higgins\, Model 103.18\, Bolt Action Rifle 103.  22 S-L-LR Cal.\, Marlin\, Model 39A\, Lever Action Rifle\, with Tang Sight                                                                    Ser. #220105 \nSHOTGUNS TO INCLUDE: 104.  16 Ga.\, 2018 Browning A5 “Sweet 16”\, 28” Barrel\, Duck Unlimited Receiver\, Extra Chokes  (New in Box)          Ser. #2018DU0834 105.  12 Ga.\, Winchester\, Model 12\, Pump Action Shotgun                                                                                                 Ser. #134C976 106.  10 Ga.\, Ithaca\, Model MAG 10\, Semi-Auto Shotgun                                                                                                    Ser. #100018755 107.  12 Ga.\, Browning\, Made in Belgium\, Model 2000\, Semi-Auto Shotgun                                                                     Ser. #29864C47 108.  410 Ga.\, Riverside Arms Co.\, Single Shot Shotgun109.  16 Ga.\, Iver Johnson Champion\, Single Shot Shotgun                                                                                               Ser. #60221XH 110.  12 Ga.\, Pump Action Shotgun\, Special Smokeless Steel                                                                                            Ser. #120581 111.  Black Powder Shotgun\, Unknown Manufacturer112.  12 Ga.\, Savage Hiawatha\, Model 594\, Single Shot Shotgun                                                                                        Ser. #P689500 113.  410 Ga.\, Excel\, Single Shot Shotgun                                                                                                                             Ser. #44821XF 114.  12 Ga.\, Savage\, Fox Model B\, Side by Side Shotgun\, Ribbed                                                                                     Ser. #51? 115.  12 Ga.\, Iver Johnson Champion\, Single Shot Shotgun116.  410 Ga.\, Harrington & Richardson\, Topper M48\, Single Shot Shotgun\, with Gun Case                                          Ser. #J70999 117.  12 Ga.\, Eastern Arms Co.\, Model 101-1\, Single Shot Shotgun                                                                                   Ser. #94B118.  410 Ga.\, Harrington & Richardson\, Topper Model 158\, Single Shot Shotgun                                                           Ser. #AL373760 119.  12 Ga.\, Winchester\, Model 1200\, Pump Shotgun                                                                                                         Ser. #L539696 120.  12 Ga.\, Ithaca\, Side by Side Shotgun 121.  12 Ga.\, Springfield\, Model 947E\, Single Shot Shotgun 122.  12 Ga.\, Central Arms Co.\, 1929 Model\, Single Shot Shotgun 123.  12 Ga.\, Harrington & Richardson\, Topper Model 158\, Single Shot Shotgun                                                            Ser. #AH210308 124.  (Pair) Daisy No. 25  Pump Action BB Gun & Diasy Powerline 881 BB Gun125.  410 Ga.\, Rossi by Taurus\, Model S411220\, Break Open Shotgun                                                                               Ser. #SR358028 126.  20 Ga.\, Sears & Roebuck Ranger\, Model 105-21\, Bolt Action Shotgun 127.  16 Ga.\, J.C. Higgins\, Model 583.21\, Bolt Action Shotgun 128.  12 Ga.\, Winchester\, Model 1897\, Pump Action Shotgun                                                                                             Ser. #197661 129.  12 Ga.\, T Dumoulin & Co.\, the Interchangeable\, Side by Side Shotgun130.  410 Ga.\, Massachusetts Arms Co.\, Side by Side Shotgun (full & modified chokes)                                               Ser. #T22021 131.  Winchester\, Model 422\, Pellet Rifle132.  12 Ga.\, Remington\, Model 870 Classic Trap\, Pump Action Shotgun\, Enhanced Receiver Engraving  (New in Box)      Ser. #RS58162K 133.  12 Ga.\, Benelli\, Model Nova\, Tactical Pump Action Shotgun\, with Original Box                                                     Ser. #Z655774E \n134.  37MM\, WW II M8 Flare Gun\, dated 1942\, US Property Pistol135.  32 Cal.\, British Bulldog\, (6) Shot Revolver\, Folding Trigger136.  (Pr.)  32 Cal.\, Hopkins & Allen\, Model Dictator\, (5) Shot Revolver & Rusted Pocket Pistol 137.  (3) Air Rifles138.  12 Ga.\, Ithaca\, Model 37\, Pump Action Shotgun139.  12 Ga.\, Remington Wing Master\, Model 870\, Pump Action Shotgun\, Vent Rib                                                           Ser. #141723V140.  12 Ga.\, Mossberg\, Model 500A\, Pump Action Shotgun\, Vent Rib\, Camo                                                                    Ser. #P223932141.  22 L-S-LR Cal.\, Marlin\, Model 39A\, Lever Action Rifle                                                                                                  Ser. #J2685 \n  \n  \nALSO TO INCLUDE: Ammunition–Handgun\, Rifle & Shotgun Bullets\, Brass\, Primers & Powder New Dies\, Powder Scales Precision Case Preparation Tools\, Dial Indicators Ammo Boxes Holsters\, Speed Loaders\, Extra XDM Magazines Compound Bear Bow Compound Crossbow \nPAYMENT TERMS: Cash\, Check or Credit Card (5% convenience fee if Credit or Debit card used) \n  \n			\n			\n				\n				\n				\n				\n			\n				\n				\n				\n				\n				\n				\n				\n				\n				\n				\n				Thank You for Attending!\nFORD & FORD AUCTIONEERS\, INC.\nNorman L. Ford – Founder   |   Gregory A. Ford – Salesman\n1-402-475-7312\n2000 West Denton Road Lincoln\, NE 68523\nquestions@fordfordauctioneers.com
URL:https://fordford.net/event/new-estate-firearms-auction-sunday-december-7th-2025_____5353-no-27th-street-lincoln-ne/
LOCATION:5353 No. 27th Street Lincoln\, NE\, 5353 No. 27th Street\, Lincoln\, NE\, 68521
CATEGORIES:Firearm Auction
ATTACH;FMTTYPE=image/jpeg:https://fordford.net/wp-content/uploads/2025/11/IMG_6783-1.jpg
END:VEVENT
END:VCALENDAR