BEGIN:VCALENDAR
VERSION:2.0
PRODID:-//Ford &amp; Ford Auctioneers - ECPv6.15.20//NONSGML v1.0//EN
CALSCALE:GREGORIAN
METHOD:PUBLISH
X-WR-CALNAME:Ford &amp; Ford Auctioneers
X-ORIGINAL-URL:https://fordford.net
X-WR-CALDESC:Events for Ford &amp; Ford Auctioneers
REFRESH-INTERVAL;VALUE=DURATION:PT1H
X-Robots-Tag:noindex
X-PUBLISHED-TTL:PT1H
BEGIN:VTIMEZONE
TZID:America/Chicago
BEGIN:DAYLIGHT
TZOFFSETFROM:-0600
TZOFFSETTO:-0500
TZNAME:CDT
DTSTART:20230312T080000
END:DAYLIGHT
BEGIN:STANDARD
TZOFFSETFROM:-0500
TZOFFSETTO:-0600
TZNAME:CST
DTSTART:20231105T070000
END:STANDARD
BEGIN:DAYLIGHT
TZOFFSETFROM:-0600
TZOFFSETTO:-0500
TZNAME:CDT
DTSTART:20240310T080000
END:DAYLIGHT
BEGIN:STANDARD
TZOFFSETFROM:-0500
TZOFFSETTO:-0600
TZNAME:CST
DTSTART:20241103T070000
END:STANDARD
BEGIN:DAYLIGHT
TZOFFSETFROM:-0600
TZOFFSETTO:-0500
TZNAME:CDT
DTSTART:20250309T080000
END:DAYLIGHT
BEGIN:STANDARD
TZOFFSETFROM:-0500
TZOFFSETTO:-0600
TZNAME:CST
DTSTART:20251102T070000
END:STANDARD
END:VTIMEZONE
BEGIN:VEVENT
DTSTART;TZID=America/Chicago:20240921T100000
DTEND;TZID=America/Chicago:20240921T100000
DTSTAMP:20260425T170214
CREATED:20240918T113631Z
LAST-MODIFIED:20250408T190040Z
UID:10000016-1726912800-1726912800@fordford.net
SUMMARY:SMALL ESTATE HOME FURNISHINGS AUCTION
DESCRIPTION:Click on the thumbnail to expand the photo. Be sure to visit each page of photos.\n*Please note* Most but not all lots are pictured. \n			\n			\n				\n				\n				\n				\n			\n				\n				\n				\n				\n				\n				\n				\n				\n				\n				\n				SMALL ESTATE HOME FURNISHINGS AUCTION ANNOUNCEMENT: SATURDAY\, SEPTEMBER 21ST\, 2024\, 1851 ATLAS AVENUE\, Street Lincoln\, NE.\nESTATE ANTIQUE DOLL AUCTION: We are selling for the Alan Patocka Estate. \nPreview @ 9:00 AMAuction @ 10:00 AMAuction held at 1851 Atlas Avenue\, Lincoln\, NE \nFeaturing : \n2006 Chrysler Van\, Town & Country Model–Wheelchair AccessibleElectric Wheel ChairsNewer Medical BedFew Home Furnishings\, Garage & Kitchen Items \nFor Detailed Itinerary/Catalogues please send $5 for each day to our office and specify which day/s you wish to receive. \nAuction Location & Details\n1851 Atlas Avenue\, Lincoln\, Nebraska \nAuction Directions:At the intersection (Look for Auction Arrow signs.) \nAuction Notice:\nWe have posted information below.This will be a very\, very short sale. Please be prompt!! \nAuction Itinerary\nTHE REAL ESTATE/TOWNHOME SELLS AT 1:00 PM. \nElectric Wheel ChairsNewer Medical BedRifton TramWheel ChairSamsung Flat Screen TVDynexSony RadioCD’s \nDining TableFew Side ChairsBar StoolsRocking ChairNight Stand*Few Garage & Kitchen ItemsWeber GrillLadder CoolerAluminum RampCar Batteries for Recycling \nVEHICLE TO SELL AT 10:30 AM2006 Chrysler Van\, Town & Country Model\, Signature Series\,Siebert Mobility Wheelchair Vans–148K Miles. \n			\n			\n				\n				\n				\n				\n			\n				\n				\n				\n				\n				\n				\n				\n				\n				\n				\n				For further information\, please contact our office at 402-475-7312.\nFor Detailed Itinerary/Catalogues please send $5 for each day to our office and specify which day/s you wish to receive.\n			\n				\n				\n				\n				\n				Thank You for Attending!\nFORD & FORD AUCTIONEERS\, INC.\nNorman L. Ford – Founder   |   Gregory A. Ford – Salesman\n1-402-475-7312\n2000 West Denton Road Lincoln\, NE 68523\nquestions@fordfordauctioneers.com
URL:https://fordford.net/event/new-small-estate-home-furnishings-auction/
LOCATION:1851 Atlas Avenue\, 1851 Atlas Avenue\, Lincoln\, NE\, 68521
CATEGORIES:Auction,Real Estate Auction
ATTACH;FMTTYPE=image/jpeg:https://fordford.net/wp-content/uploads/2024/09/Car-rotated.jpg
END:VEVENT
BEGIN:VEVENT
DTSTART;TZID=America/Chicago:20240921T130000
DTEND;TZID=America/Chicago:20240921T130000
DTSTAMP:20260425T170215
CREATED:20240823T164102Z
LAST-MODIFIED:20250408T185714Z
UID:10000012-1726923600-1726923600@fordford.net
SUMMARY:REAL ESTATE AUCTION: TOWNHOUSE\, 1851 Atlas Avenue
DESCRIPTION:Click on the thumbnail to expand the photo. Be sure to visit each page of photos.\n*Please note* Most but not all lots are pictured. \n			\n			\n				\n				\n				\n				\n			\n				\n				\n				\n				\n				\n				\n				\n				\n				\n				\n				Final Results:\nThis property sold for $200\,500.00\non 09-21-24\n			\n				\n				\n				\n				\n				REAL ESTATE AUCTION: TOWNHOUSE Saturday\, September 21st\, 2024\, 1851 Atlas Avenue Lincoln\, NE.\nESTATE AUCTION TOWNHOUSE: We are selling for the Alan Potacka Estate \nPreview @ 11:00 AMAuction @   1:00 PMAuction held at the location. \nFeaturing :(2) Bedroom & (2) Bathroom TownhouseBuilt in 2011!Ready to move into! \nFor Detailed Itinerary/Catalogues please send $5 for each day to our office and specify which day/s you wish to receive. \nAuction Location & Details\n1851 Atlas Avenue\, Lincoln\, Nebraska \nAuction Directions:At the intersection of No. 18th & Superior Streets\,Turn South on No. 18th(Watch for auction arrow signs.) \nAuction Itinerary\n(1) Story\, Framed Brick Townhouse.(2) Bedrooms.(2) Bathrooms.Built in 2011.1200 Square Feet.Hardwood Floors. \nVery Large Combination Living Room & Dining Room.Large Kitchen.Granite Countertops.(1)  4 Fixture Bath.(1)  3 Fixture Bath.HVAC Unit.Slab Foundation. \n(2) Stall Garage w/441 SF.Wheelchair Accessible Ramp in the Garage.**This home is ready to move into.** \nLegal Description: Hunters Pointe\, Block 4\, Lot 24Property ID: 11-12-129-024-000Property Class: (Residential Improved)Primary Use: (Townhouse)Zoning: R2 – Residential DistrictNeighborhood: TH – Hunters Pointe \nTERMS: 5% Down Day of Sale with Balance in 45 Days.This Property Sells Subject to the Confirmation of the Personal Representative. \nTo View This Property or For Additional Information\,Please Call: 402-475-7312. \nGregory A. Ford—Salesman \nREAL ESTATE BROKERED BY 1867 COLLECTIVE \n			\n			\n				\n				\n				\n				\n			\n				\n				\n				\n				\n				\n				\n				\n				\n				\n				\n				For further information\, please contact our office at 402-475-7312.\nFor Detailed Itinerary/Catalogues please send $5 for each day to our office and specify which day/s you wish to receive.\n			\n				\n				\n				\n				\n				Thank You for Attending!\nFORD & FORD AUCTIONEERS\, INC.\nNorman L. Ford – Founder   |   Gregory A. Ford – Salesman\n1-402-475-7312\n2000 West Denton Road Lincoln\, NE 68523\nquestions@fordfordauctioneers.com
URL:https://fordford.net/event/real-estate-auction-townhouse-1851-atlas-avenue/
LOCATION:1851 Atlas Avenue\, Lincoln\, 1851 Atlas Avenue\, Lincoln\, NE\, 68521
CATEGORIES:Auction,Estate Auction,Final Results,Real Estate Auction
ATTACH;FMTTYPE=image/jpeg:https://fordford.net/wp-content/uploads/2024/08/RealEstateAuction-TownHouse-rotated.jpg
END:VEVENT
END:VCALENDAR