BEGIN:VCALENDAR
VERSION:2.0
PRODID:-//Ford &amp; Ford Auctioneers - ECPv6.15.20//NONSGML v1.0//EN
CALSCALE:GREGORIAN
METHOD:PUBLISH
X-ORIGINAL-URL:https://fordford.net
X-WR-CALDESC:Events for Ford &amp; Ford Auctioneers
REFRESH-INTERVAL;VALUE=DURATION:PT1H
X-Robots-Tag:noindex
X-PUBLISHED-TTL:PT1H
BEGIN:VTIMEZONE
TZID:America/Chicago
BEGIN:DAYLIGHT
TZOFFSETFROM:-0600
TZOFFSETTO:-0500
TZNAME:CDT
DTSTART:20240310T080000
END:DAYLIGHT
BEGIN:STANDARD
TZOFFSETFROM:-0500
TZOFFSETTO:-0600
TZNAME:CST
DTSTART:20241103T070000
END:STANDARD
BEGIN:DAYLIGHT
TZOFFSETFROM:-0600
TZOFFSETTO:-0500
TZNAME:CDT
DTSTART:20250309T080000
END:DAYLIGHT
BEGIN:STANDARD
TZOFFSETFROM:-0500
TZOFFSETTO:-0600
TZNAME:CST
DTSTART:20251102T070000
END:STANDARD
BEGIN:DAYLIGHT
TZOFFSETFROM:-0600
TZOFFSETTO:-0500
TZNAME:CDT
DTSTART:20260308T080000
END:DAYLIGHT
BEGIN:STANDARD
TZOFFSETFROM:-0500
TZOFFSETTO:-0600
TZNAME:CST
DTSTART:20261101T070000
END:STANDARD
END:VTIMEZONE
BEGIN:VEVENT
DTSTART;TZID=America/Chicago:20251102T120000
DTEND;TZID=America/Chicago:20251102T180000
DTSTAMP:20260425T131043
CREATED:20251020T122015Z
LAST-MODIFIED:20251102T121448Z
UID:10000109-1762084800-1762106400@fordford.net
SUMMARY:TODAY:  ESTATE AUCTION:  Sunday\, November 2nd\, 2025_____2000 W. Denton Road     Lincoln\, NE.
DESCRIPTION:Click on the thumbnail to expand the photo. Be sure to visit each page of photos.\n*Please note* Most but not all lots are pictured. \n			\n			\n				\n				\n				\n				\n			\n				\n				\n				\n				\n				\n				\n				\n				\n				\n				\n				ESTATE AUCTION:\nWe are selling for the Ken & Mary Wiedenfeld Estate.. \n*2019 Ford Flex LTD\, 3.5L Engine\, V6\, Burgundy\, Leather\, Super Clean—60K Miles**2004 Ford Excursion LTD\, 6.8L\, V10\, Gold\, Leather Interior\, Very Clean—192K Miles**Antiques; Primitives & Collectibles* *NASCAR—Rusty Wallace Memorabilia & Carl Edwards Jackets* *Hunting & Fishing Gear* *Home Furnishings\, TV’s & Small Kitchen Appliances* *Christmas Décor\, Sewing Machines & Framed Prints* *Coca-Cola Collectibles& Cat/Mountain Lion Collectibles**Tools* \nWe are selling for the Ken & Mary Wiedenfeld Estate. \nSunday\, November 2nd\, 2025     12:00 Noon     Preview 11:00 AM2000 W. Denton Road    Lincoln\, NE\n \nAuction Location & Details\nAuction Directions:At the intersection of So. Coddington Avenue & W. Denton Road\,Travel 100 yards West on W. Denton Road to auction site.(Look for Auction Arrow signs.) \nAuction Notice:We have unpacked about half of the container so far.We will be posting information throughout next week as we prepare for the auction.\nAuction Itinerary:\n  \n*2019 Ford Flex LTD\, Leather\, Super Clean—60K Miles**2004 Ford Excursion LTD\, V10\, 4X4\, Leather Interior\, Very Clean—192K Miles* \nAUCTION TO INCLUDE:Antiques; Primitives & Collectibles;Redwing Crocks & Jugs;Mid-Century Modern Swag Hanging Lamp;NASCAR—Rusty Wallace Memorabilia; Carl Edwards Jackets/Coats;Hunting & Fishing Gear/Hummingbird Fish Locator;Home Furnishings;TV’s; Small Kitchen Appliances;Christmas & Halloween Décor;Sewing Machines; Framed Prints;Coca-Cola Collectibles;1989 Nintendo Entertainment System–New in Box;Show n’ Tell Picture Sound/Phono Viewer;Matchbox Cars\, John Deere Toy Cars\, Die Cast Cars;Barbies; Sunshine Family House & Dolls;Tonka Toys;Alabaster Mountain Lion by JL Boulton;Cat & Mountain Lion Collectibles/Figurines;Misc. Glassware;  Fiestaware;  Pyrex Stacking Bowls;Aluminum Cargo Carrier—New in Box;Kitchen-Aid Mixer;Canon Rebel 2000 EOS Camera;Shop\, Power & Hand Tools;Upright Compressor. \n2019 Ford Flex LTD\, 3.5L Engine\, V6\, Burgundy\, Leather Interior—60K Miles.2004 Ford Excursion LTD\, 6.8L\, V10\, 4X4\, Gold\, Leather Interior—192K Miles.We are selling for the Ken & Mary Wiedenfeld Estate. \n  \n  \n			\n			\n				\n				\n				\n				\n			\n				\n				\n				\n				\n				\n				\n				\n				\n				\n				\n				Thank You for Attending!\nFORD & FORD AUCTIONEERS\, INC.\nNorman L. Ford – Founder   |   Gregory A. Ford – Salesman\n1-402-475-7312\n2000 West Denton Road Lincoln\, NE 68523\nquestions@fordfordauctioneers.com
URL:https://fordford.net/event/estate-auction-sunday-november-2nd-2025_____2000-w-denton-road-lincoln-ne/
LOCATION:2000 W. Denton Road\, 2000 W. Denton Road\, Lincoln\, NE\, 68523\, United States
CATEGORIES:Estate Auction
ATTACH;FMTTYPE=image/jpeg:https://fordford.net/wp-content/uploads/2025/10/IMG_6324.jpg
END:VEVENT
BEGIN:VEVENT
DTSTART;TZID=America/Chicago:20251115T100000
DTEND;TZID=America/Chicago:20251115T170000
DTSTAMP:20260425T131043
CREATED:20251023T161116Z
LAST-MODIFIED:20251115T121657Z
UID:10000114-1763200800-1763226000@fordford.net
SUMMARY:TODAY:  SMALL ENGINE & REPAIR SHOP AUCTION:  Saturday\, November 15\, 2025_____1920 Holdrege St.     Lincoln\, NE.
DESCRIPTION:Click on the thumbnail to expand the photo. Be sure to visit each page of photos. \n			\n			\n				\n				\n				\n				\n			\n				\n				\n				\n				\n				\n				\n				\n				\n				\n				\n				SMALL ENGINE & REPAIR AUCTION:\n**Honda 200X\, (3) Wheel ATC–1986 Model****Honda 250SX\, (3) Wheel ATC–1986 Model**\n*New Over Seeder\, Billy Goat\, Self Propelled\, Model OS901SPH**Tons of New\, Small Engine Parts & Motors**Snap-On Tools**Wall Cabinets & Storage Cabinets*\n  \n  \nSaturday\, November 15th\, 2025     11:00 AM     Preview 10:00 AM1920 Holdrege Street     Lincoln\, NE\nWe are selling for a local estate.. \nAuction Directions:At the intersection of No. 27th & Holdrege Streets\,Travel West on Holdrege Street for (8) Blocks to the auction site. \nFeaturing : \nTHESE (3) ITEMS TO SELL AT 12:30 PM**Honda 200X\, (3) Wheel ATC–1986 Model** **Honda 250SX\, (3) Wheel ATC–1986 Model***New Over Seeder\, Billy Goat\, Self Propelled\, Model OS901SPH* *Tons of New\, Small Engine Parts** Small Engine Motors* *Snap-On Tools* *Wall Cabinets & Storage Cabinets* \nBriggs & Stratton\, Honda PartsNEW Small Engine Inventory & Repair ToolsLarge Amount of Inventory for Small Engines & Lawn Mowers–Wheels\, Mower Blades\, Tires\, Rims\, DecksCrankshafts\, Service Parts\, Carburetor\, Valve Refacer\, Capacitor Parts\, Oil Seal Parts\, Spindle Shafts\,Trim Screws\, Hex Cap Screws\, Hardware\, Hardware Caddies \nNice Rolling Tool BoxSnap-On ToolsDial Bore GaugeHand Tools & Power Tools \nAuction Notice\nWe have posting information and photos.Check back next week for further updates. \nAuction Itinerary\n  \n			\n			\n				\n				\n				\n				\n			\n				\n				\n				\n				\n				\n				\n				\n				\n				\n				\n				Thank You for Attending!\nFORD & FORD AUCTIONEERS\, INC.\nNorman L. Ford – Founder   |   Gregory A. Ford – Salesman\n1-402-475-7312\n2000 West Denton Road Lincoln\, NE 68523\nquestions@fordfordauctioneers.com
URL:https://fordford.net/event/new-small-engine-repair-shop-auction-saturday-november-15-2025_____1920-holdrege-st-lincoln-ne/
LOCATION:1920 Holdrege Street\, 1920 Holdrege Street\, Lincoln\, NE
CATEGORIES:Auction
ATTACH;FMTTYPE=image/jpeg:https://fordford.net/wp-content/uploads/2025/11/IMG_6783.jpg
END:VEVENT
BEGIN:VEVENT
DTSTART;TZID=America/Chicago:20251122T073000
DTEND;TZID=America/Chicago:20251122T170000
DTSTAMP:20260425T131043
CREATED:20251023T153211Z
LAST-MODIFIED:20260324T220711Z
UID:10000113-1763796600-1763830800@fordford.net
SUMMARY:TODAY:  UNL SURPLUS AUCTION:  Saturday\, November 22nd\, 2025_____ 3630 East Campus Loop (Area)\,     Lincoln\, NE.
DESCRIPTION:Click on the thumbnail to expand the photo. Be sure to visit each page of photos. \n			\n			\n				\n				\n				\n				\n			\n				\n				\n				\n				\n				\n				\n				\n				\n				\n				\n				UNL SURPLUS AUCTION:\n*UNL Football Team Photos–Framed**Servers**Audio/Video Equipment**UNL Exercise Equipment*\n  \nSaturday\, November 22nd\, 2025\, 3630 East Campus Loop (Area)\, Lincoln\, NE\nUNL SURPLUS AUCTION: We are selling for the University of Nebraska.. \nPreview @ 7:30 AM Auction @ 9:00 AMAuction held at the location. \nFeaturing :UNL Inventory Surplus \nAuction Location & Details:3630 East Campus Loop\, Lincoln\, Nebraska (Two Buildings East of the Loop)\nAuction Directions: At the intersection of No. 33rd & Holdrege Streets\,Travel North on No. 33rd 1/4 mile to East Campus Loop\, (Near the Game & Parks Rec. Building) Turn Right/East (3) Blocks to the auction site. (Look for Auction Arrow signs.) \nAuction Itinerary:\n  \nINVENTORY SURPLUS \nSATURDAY\, NOVEMBER 22\, 2025 – 9:00 A.M. LOCATION – Two Buildings East of 3630 East Campus Loop \nCOMPUTER EQUIPMENT: Dell Computers Towers Apple iMacs Miscellaneous Computers Flat Monitors Miscellaneous Toner & Ink Cartridges AMX Equipment Servers Dell Server Rack Monitor Stands \nMISCELLANEOUS:Husker Framed Photos Metal Flat File Air Filters Pipe Fittings Roland KR103 Digital Intelligent Piano Tuba Turbochef Oven Baker’s Pride Oven Pretzel Warmer Drafting Table (Illuminated bottom) Snap Frames Plastic Dance Floor (875 ft2) Jugs Machine M1700 2 Athletic Mannequins Recycle Bins \nA/V EQUIPMENT: Mx Wall Process Speakers Extron Equipment Projectors Furman Power Misc. Shure Equipment Harris Equipment Teleprompter ClearOne Cameras \nFURNITURE:Vertical File Cabinets Lateral File Cabinets Tables Bookcases Desks/Varidesks Storage Cabinets Chairs Smaller Tables \nWORKOUT EQUIPMENT: Hammer Strength Units Bicep Seated Dip Hammer Strength Ground Base Combo Decline Weight Racks (no weights) Dumbbells weights (Heavy) Versaclimber \n  \n **HEAVY ITEMS MAY REQUIRE DOCK-HEIGHT VEHICLE**MANY MORE MISCELLANEOUS ITEMS! \n*Some heavy items may require a dock level vehicle/trailer.**NO FORKLIFT AVAILABLE * \nPlease see our website at http://inventory.unl.edu to view map and/or link to this flier.  \nhttps://inventory.unl.edu/public-auctionopen-house/public-auction/ \n  \nThis auction will be an IN-PERSON auction. \n  \n  \nTerms: Cash\, Check or Credit Card (5% convenience fee if Credit or Debit card used)University Reserves the Right to Take From or Add to SaleAs Is Where Is Basis – **NO FORKLIFT ON SITE**Preview – November 22nd\, 7:30 a.m. – 9:00 a.m.WAREHOUSE OPEN FOR PICK UP THE DAY OF AUCTION UNTIL 4:30 p.m.All items must be removed the day of the sale unless other arrangements are made with the University.Any items that have been paid for and abandoned will become the property of the University. \n			\n			\n				\n				\n				\n				\n			\n				\n				\n				\n				\n				\n				\n				\n				\n				\n				\n				Thank You for Attending!\nFORD & FORD AUCTIONEERS\, INC.\nNorman L. Ford – Founder   |   Gregory A. Ford – Salesman\n1-402-475-7312\n2000 West Denton Road Lincoln\, NE 68523\nquestions@fordfordauctioneers.com
URL:https://fordford.net/event/new-unl-surplus-auction-saturday-november-22nd-2025_____-3630-east-campus-loop-area-lincoln-ne/
LOCATION:3630 East Campus Loop\, 3630 East Campus Loop\, Lincoln\, NE\, 68538
CATEGORIES:Auction
ATTACH;FMTTYPE=image/jpeg:https://fordford.net/wp-content/uploads/2025/11/20251104_095928-scaled.jpg
END:VEVENT
BEGIN:VEVENT
DTSTART;TZID=America/Chicago:20251123T120000
DTEND;TZID=America/Chicago:20251123T180000
DTSTAMP:20260425T131043
CREATED:20251105T163733Z
LAST-MODIFIED:20251123T111628Z
UID:10000116-1763899200-1763920800@fordford.net
SUMMARY:TODAY:  ESTATE ANTIQUE AUCTION:  Sunday\, November 23rd\, 2025_____2000 W. Denton Rd.     Lincoln\, NE.
DESCRIPTION:Click on the thumbnail to expand the photo. Be sure to visit each page of photos..   \n			\n			\n				\n				\n				\n				\n			\n				\n				\n				\n				\n				\n				\n				\n				\n				\n				\n				ESTATE ANTIQUE AUCTION:\n \nWe are selling for an out of town estate..\n*Primitives & Collectibles**Oak Antique Furniture**Antique Brass Bed**Blow Mold Santas*\n*2012 Lincoln MKZ\, Silver\, 4 Door Sedan**Silver Coins–Morgan & Peace Silver Dollars**Silver Coins–Franklin & Liberty Walking Half Dollars & Washington Quarters**Some Mid-Century Modern Items***(2) Sets of Sterling Flatware**\nSunday\, November 23rd\, 2025     12:00 Noon     Preview 11:00 AM 2000 W. Denton Road     Lincoln\, NE\nAuction Directions: At the intersection of So. Coddington Avenue & W. Denton Road\, Travel West 200 yards on the W. Denton Road to the auction site. \nAuction Notice\nWe have started to unpack for this auction\, please keep visiting the website for updates & photos! \nAuction Itinerary:\n2012 Lincoln MKZ\, Silver\, 4 Door Sedan*\, 137K Miles\, Heated & Cooled Seats\, AWD\, Moonroof\nOak Settee\, (4) Side Chairs & (2) Rocking Chairs  (from the old Nebraska State Fair in Lincoln\, NE.)Oak Side by Side Secretary/Drop Front Writing DeskOak SideboardOak DresserOak CommodeOak Edison Phonograph and Cylinder Rolls \nBrass Bed–Painted WhiteFrench Provintial Bedroom Furniture1930’s Bed & Dresser(4) Oak Bentwood ChairsOak Sewing Rocking ChairOak Coffee TableParlor Tables(3) Orange State Fair Plastic ChairsSteamer TrunkCedar ChestMinnesota Sewing Machine in Oak Sewing CabinetOrgan Speaker \nAntique Sleigh Bells with 42 Bells on Leather Strap Stereoscope and Cards Sterling Silver Flatware Pearl Handle Flatware Wavecrest Dresser Box Hand Painted China A Few Pcs. of RR China Patch QuiltStained Glass Desk Lamp \nMid-Century Wall ClockMid-Century LampsClint Eastwood Movie Cutout  \nAmerican Flyer Train w/BoxDakota Mirror SignAdv. Beer ItemsBear Beer PlaqueAdvertising TinsDazey Glass Butter ChurnCream CanOld Watering CanWinchester Adv. BoxWood Adv. BoxesCigar BoxesStorz CoolerCrocksHorse Wall BracketsCast Iron CookwareCopperwareSugar & Feed SacksSewing Notions & Misc.PrimitivesAdv. Ashtrays \nBlow Mold SantasSome PotteryMisc. GlasswareUranium Green GlassDepression GlasswareWillow Ware DishesDog Cookie JarPlantersAnimal Figurines–Bears & DogsOlder BasketsTextilesYouth ClothesSoldiers Uniform \nSome Die Cast CarsHowdy Doodie MarionetteMisc. DollsStuffed AnimalsSilver Plate ItemsBaskets–New & OlderPink RCA TV \n  \nWooden Tool BoxMetal PlanesOlder ToolsShowcase Items \n  \n  \n  \n  \n  \n			\n			\n				\n				\n				\n				\n			\n				\n				\n				\n				\n				\n				\n				\n				\n				\n				\n				Thank You for Attending!\nFORD & FORD AUCTIONEERS\, INC.\nNorman L. Ford – Founder   |   Gregory A. Ford – Salesman\n1-402-475-7312\n2000 West Denton Road Lincoln\, NE 68523\nquestions@fordfordauctioneers.com
URL:https://fordford.net/event/new-estate-antique-auction-sunday-november-23rd-2025_____2000-w-denton-rd-lincoln-ne/
LOCATION:2000 W. Denton Road\, 2000 W. Denton Road\, Lincoln\, NE\, 68523\, United States
CATEGORIES:Estate Auction
ATTACH;FMTTYPE=image/jpeg:https://fordford.net/wp-content/uploads/2025/11/IMG_5763.jpg
END:VEVENT
END:VCALENDAR