BEGIN:VCALENDAR
VERSION:2.0
PRODID:-//Ford &amp; Ford Auctioneers - ECPv6.15.20//NONSGML v1.0//EN
CALSCALE:GREGORIAN
METHOD:PUBLISH
X-ORIGINAL-URL:https://fordford.net
X-WR-CALDESC:Events for Ford &amp; Ford Auctioneers
REFRESH-INTERVAL;VALUE=DURATION:PT1H
X-Robots-Tag:noindex
X-PUBLISHED-TTL:PT1H
BEGIN:VTIMEZONE
TZID:America/Chicago
BEGIN:DAYLIGHT
TZOFFSETFROM:-0600
TZOFFSETTO:-0500
TZNAME:CDT
DTSTART:20250309T080000
END:DAYLIGHT
BEGIN:STANDARD
TZOFFSETFROM:-0500
TZOFFSETTO:-0600
TZNAME:CST
DTSTART:20251102T070000
END:STANDARD
BEGIN:DAYLIGHT
TZOFFSETFROM:-0600
TZOFFSETTO:-0500
TZNAME:CDT
DTSTART:20260308T080000
END:DAYLIGHT
BEGIN:STANDARD
TZOFFSETFROM:-0500
TZOFFSETTO:-0600
TZNAME:CST
DTSTART:20261101T070000
END:STANDARD
BEGIN:DAYLIGHT
TZOFFSETFROM:-0600
TZOFFSETTO:-0500
TZNAME:CDT
DTSTART:20270314T080000
END:DAYLIGHT
BEGIN:STANDARD
TZOFFSETFROM:-0500
TZOFFSETTO:-0600
TZNAME:CST
DTSTART:20271107T070000
END:STANDARD
END:VTIMEZONE
BEGIN:VEVENT
DTSTART;TZID=America/Chicago:20260425T100000
DTEND;TZID=America/Chicago:20260425T170000
DTSTAMP:20260425T081512
CREATED:20260409T144105Z
LAST-MODIFIED:20260425T092243Z
UID:10000127-1777111200-1777136400@fordford.net
SUMMARY:TODAY:  Retirement Plumbing Auction:  Saturday\, April 25th\, 2026_____565 W. South Street     Lincoln\, NE.
DESCRIPTION:Click on the thumbnail to expand the photo. Be sure to visit each page of photos. \n			\n			\n				\n				\n				\n				\n			\n				\n				\n				\n				\n				\n				\n				\n				\n				\n				\n				Retirement Plumbing Auction:We are selling for Armstrong Plumbing.\n  \n*2013 Ford F-150 Pickup Truck\, with Pipe Rack & Tool Bin**Nice Selection of Cordless & Corded Hand Tools**Battery Operated Jack Hammer & Core Drill**Jobsite Tool Boxes**Large Selection of PVC Pipe & Fittings**Brass & Copper Fittings* \nSaturday\, April 25\, 2026     565 W. South Street     Lincoln\, NE.  10:00 AM     Preview 8:30 AM (There will be an early preview on Friday\, April 24th from 9:00 AM to 1:00 PM) \nWe are selling for Bob Armstrong. \n\nDIRECTIONS:At the intersection of W. 6th Street & W. South Street\, Turn South 1/2 Block to Auction site.Look for auction arrows!! \n  \n  \nAUCTION TO INCLUDE: \n2013 Ford F-150 Pickup Truck\, with Pipe Rack & Tool Bin \nNice Selection of Cordless & Corded Hand ToolsMilwaukee Battery Operated Jack HammerBattery Operated Core DrillDeWalt Chop Saw Transit & Tripod \nJobsite Tool BoxesRolling CartsMilwaukee PackoutLg. Bench Vise \nLarge Selection of PVC Pipe & FittingsOatey PVC CementPTFE Thread TapeBrass & Copper FittingsCopper ValvesWater Main ValvesLg. Pipe Threader \nHand ToolsPipe WrenchesMilwaukee Hole Saw SetGreenlee Knockout Punch SetConcrete BitsTap & Die SetsNew Metal FilesVise GripsRatchet & SocketsWrenchesLg.  Log ChainRatchet Tie DownsPipe CuttersFlaring ToolsPullers \nFiberglass LaddersShovelsTarpsFuel CansDrop Cords \nFire HoseCaution ConesSm. Set of ScaffoldingCraftsman Rolling Tool Box \nNew SinkNew Faucet SetsThreaded Rod Anchoring SystemThreaded RodUni-Thread \n \n  \nTerms: Cash\, Check or Credit Card (5% convenience fee if Credit or Debit card used) \nGreg Ford President \nFord & Ford Auctioneers\, Inc. 2000 W. Denton Road Lincoln\, NE.     68523 402-475-7312 \n			\n			\n				\n				\n				\n				\n			\n				\n				\n				\n				\n				\n				\n				\n				\n				\n				\n				Thank You for Attending!\nFORD & FORD AUCTIONEERS\, INC.\nNorman L. Ford – Founder   |   Gregory A. Ford – Salesman\n1-402-475-7312\n2000 West Denton Road Lincoln\, NE 68523\nquestions@fordfordauctioneers.com
URL:https://fordford.net/event/new-retirement-plumbing-auction-saturday-april-25th-2026_____565-w-south-street-lincoln-ne/
LOCATION:565 W. South Street\, 565 W. South Street\, Lincoln\, NE\, United States
CATEGORIES:Auction
ATTACH;FMTTYPE=image/jpeg:https://fordford.net/wp-content/uploads/2026/04/IMG_7792.jpg
END:VEVENT
END:VCALENDAR