BEGIN:VCALENDAR
VERSION:2.0
PRODID:-//Ford &amp; Ford Auctioneers - ECPv6.15.20//NONSGML v1.0//EN
CALSCALE:GREGORIAN
METHOD:PUBLISH
X-WR-CALNAME:Ford &amp; Ford Auctioneers
X-ORIGINAL-URL:https://fordford.net
X-WR-CALDESC:Events for Ford &amp; Ford Auctioneers
REFRESH-INTERVAL;VALUE=DURATION:PT1H
X-Robots-Tag:noindex
X-PUBLISHED-TTL:PT1H
BEGIN:VTIMEZONE
TZID:America/Chicago
BEGIN:DAYLIGHT
TZOFFSETFROM:-0600
TZOFFSETTO:-0500
TZNAME:CDT
DTSTART:20250309T080000
END:DAYLIGHT
BEGIN:STANDARD
TZOFFSETFROM:-0500
TZOFFSETTO:-0600
TZNAME:CST
DTSTART:20251102T070000
END:STANDARD
BEGIN:DAYLIGHT
TZOFFSETFROM:-0600
TZOFFSETTO:-0500
TZNAME:CDT
DTSTART:20260308T080000
END:DAYLIGHT
BEGIN:STANDARD
TZOFFSETFROM:-0500
TZOFFSETTO:-0600
TZNAME:CST
DTSTART:20261101T070000
END:STANDARD
BEGIN:DAYLIGHT
TZOFFSETFROM:-0600
TZOFFSETTO:-0500
TZNAME:CDT
DTSTART:20270314T080000
END:DAYLIGHT
BEGIN:STANDARD
TZOFFSETFROM:-0500
TZOFFSETTO:-0600
TZNAME:CST
DTSTART:20271107T070000
END:STANDARD
END:VTIMEZONE
BEGIN:VEVENT
DTSTART;TZID=America/Chicago:20260509T110000
DTEND;TZID=America/Chicago:20260509T170000
DTSTAMP:20260425T080953
CREATED:20260424T134507Z
LAST-MODIFIED:20260424T135314Z
UID:10000128-1778324400-1778346000@fordford.net
SUMMARY:NEW:  ANTIQUE AUCTION:  Saturday\, May 9th\, 2026_____2300 Washington Street     Lincoln\, NE.
DESCRIPTION:ANTIQUE AUCTION:\n*Primitives & Collectibles**Showcase Items–Gold & Sterling Jewelry**Costume Jewelry*Longaberger Baskets* \nSaturday\, May 9th\, 20262300 Washington Street\, Lincoln\, NE \nAuction @ 11:00 AM     Preview 10:00 AMAuction held at the location. \nFeaturing :Lots of Antiques!! \nAuction Directions:At the intersection of So. 23rd & Washington Streets. \nAuction Notice:Additional information and pictures to be posted next week!\n			\n			\n				\n				\n				\n				\n			\n				\n				\n				\n				\n				\n				\n				\n				\n				\n				\n				Thank You for Attending!\nFORD & FORD AUCTIONEERS\, INC.\nNorman L. Ford – Founder   |   Gregory A. Ford – Salesman\n1-402-475-7312\n2000 West Denton Road Lincoln\, NE 68523\nquestions@fordfordauctioneers.com
URL:https://fordford.net/event/new-antique-auction-saturday-may-9th-2026_____2300-washington-street-lincoln-ne/
LOCATION:2300 Washington Street\, 2300 Washington Street\, Lincoln\, NE\, United States
CATEGORIES:Antique Auction
END:VEVENT
END:VCALENDAR