BEGIN:VCALENDAR
VERSION:2.0
PRODID:-//Ford &amp; Ford Auctioneers - ECPv6.15.20//NONSGML v1.0//EN
CALSCALE:GREGORIAN
METHOD:PUBLISH
X-WR-CALNAME:Ford &amp; Ford Auctioneers
X-ORIGINAL-URL:https://fordford.net
X-WR-CALDESC:Events for Ford &amp; Ford Auctioneers
REFRESH-INTERVAL;VALUE=DURATION:PT1H
X-Robots-Tag:noindex
X-PUBLISHED-TTL:PT1H
BEGIN:VTIMEZONE
TZID:America/Chicago
BEGIN:DAYLIGHT
TZOFFSETFROM:-0600
TZOFFSETTO:-0500
TZNAME:CDT
DTSTART:20250309T080000
END:DAYLIGHT
BEGIN:STANDARD
TZOFFSETFROM:-0500
TZOFFSETTO:-0600
TZNAME:CST
DTSTART:20251102T070000
END:STANDARD
BEGIN:DAYLIGHT
TZOFFSETFROM:-0600
TZOFFSETTO:-0500
TZNAME:CDT
DTSTART:20260308T080000
END:DAYLIGHT
BEGIN:STANDARD
TZOFFSETFROM:-0500
TZOFFSETTO:-0600
TZNAME:CST
DTSTART:20261101T070000
END:STANDARD
BEGIN:DAYLIGHT
TZOFFSETFROM:-0600
TZOFFSETTO:-0500
TZNAME:CDT
DTSTART:20270314T080000
END:DAYLIGHT
BEGIN:STANDARD
TZOFFSETFROM:-0500
TZOFFSETTO:-0600
TZNAME:CST
DTSTART:20271107T070000
END:STANDARD
END:VTIMEZONE
BEGIN:VEVENT
DTSTART;TZID=America/Chicago:20260411T110000
DTEND;TZID=America/Chicago:20260411T170000
DTSTAMP:20260422T064853
CREATED:20260324T212202Z
LAST-MODIFIED:20260411T112210Z
UID:10000123-1775905200-1775926800@fordford.net
SUMMARY:TODAY:  ESTATE AUCTION:  Saturday\, April 11th\, 2026_____2410 SW 14th Street     Lincoln\, NE.
DESCRIPTION:Click on the thumbnail to expand the photo. Be sure to visit each page of photos. \n			\n			\n				\n				\n				\n				\n			\n				\n				\n				\n				\n				\n				\n				\n				\n				\n				\n				Today’s auction will be held as scheduled.It might be a little wet so plan accordingly. \nESTATE AUCTION:For the Daniel J. Dilla Estate\nFeaturing : *Home Furnishings* *Stereo Equipment**Late 1960’s\, 1970’s & 1980’s Rock Albums* *2016 VW Passat S–61\,700 miles**The VW Passat will sell at 12:00 Noon*\n  \n  \nSaturday\, April 11th\, 2026 2410 SW 14th Street\, Lincoln\, NE\nAuction @ 11:00 AM     Preview @ 10:00 AMAuction held at the location. \nAuction Directions:At the intersection of SW 14th & West South Streets\,Travel South of SW 14th for (3) Blocks to the auction site.(Look for Auction Arrow signs.) \nAuction Notice:This will be a small sale\, so please be prompt!!\nHome FurnishingsBedroom & Living Room FurnitureDinette SetRegulator Clock\nStereo Equipment:Sherwood RX-4109 ReceiverYamaha RX-V303ReceiverJVC Compact Disc PlayerYamaha SpeakersCerwin Vega Speakers \nLate 1960’s\, 1970’s & 1980’s Rock Albums:Beatles\, Rolling Stones\, The Who\, Guess Who\, Pink Floyd\, Janis Joplin\, The Doors\, Grateful Dead\, Bob Dylan\, Led Zepplin\,Robin Trower\, The Kinks\, Black Sabbath\, Nazareth\, David Bowie.Southern Rock:  Lynyrd Skynyrd\, The Outlaws\, Stevie Ray Vaughn\, The Allman Brothers\, Molly Hatchet\, Marshall Tucker.1980’s Rock:  The Eagles\, Journey\, Scorpions\, Boston\, The Steve Miller Band\, George Thorogood\, Rush\, CCR\, Jeff Beck\,Thin Lizzy\, Grand Funk\, Neil Young\, Eric Clapton\, Aerosmith\, Heart\, Van Halen\, Tom Petty\, Kiss\, Guns N’ Roses.Few Rock Posters \nRay Ban Sun GlassesLava Lamp \nLawnBoy MowerToro MowerCraftsman Leaf BlowerFew Hand ToolsFew Power ToolsFew Cordless ToolsDirt Devil Vacuum \n2016 VW Passatt S–61\,700 milesThe vehicle will sell at 12:00 Noon \n  \n  \nWe are selling for the Daniel J. Dilla Estate. \n  \n  \nTerms: Cash\, Check or Credit Card (5% convenience fee if Credit or Debit card used) \nGreg FordPresident \nFord & Ford Auctioneers\, Inc.2000 W. Denton RoadLincoln\, NE.     68523402-475-7312 \n  \n  \n\n			\n			\n				\n				\n				\n				\n			\n				\n				\n				\n				\n				\n				\n				\n				\n				\n				\n				Thank You for Attending!\nFORD & FORD AUCTIONEERS\, INC.\nNorman L. Ford – Founder   |   Gregory A. Ford – Salesman\n1-402-475-7312\n2000 West Denton Road Lincoln\, NE 68523\nquestions@fordfordauctioneers.com
URL:https://fordford.net/event/new-estate-auction-saturday-april-11th-2026_____2410-sw-14th-street-lincoln-ne/
LOCATION:2410 SW 14th Street\, 2410 SW 14th Street\, NE\, United States
CATEGORIES:Estate Auction
ATTACH;FMTTYPE=image/jpeg:https://fordford.net/wp-content/uploads/2026/04/IMG_8075.jpeg
END:VEVENT
END:VCALENDAR