BEGIN:VCALENDAR
VERSION:2.0
PRODID:-//Ford &amp; Ford Auctioneers - ECPv6.15.20//NONSGML v1.0//EN
CALSCALE:GREGORIAN
METHOD:PUBLISH
X-WR-CALNAME:Ford &amp; Ford Auctioneers
X-ORIGINAL-URL:https://fordford.net
X-WR-CALDESC:Events for Ford &amp; Ford Auctioneers
REFRESH-INTERVAL;VALUE=DURATION:PT1H
X-Robots-Tag:noindex
X-PUBLISHED-TTL:PT1H
BEGIN:VTIMEZONE
TZID:America/Chicago
BEGIN:DAYLIGHT
TZOFFSETFROM:-0600
TZOFFSETTO:-0500
TZNAME:CDT
DTSTART:20230312T080000
END:DAYLIGHT
BEGIN:STANDARD
TZOFFSETFROM:-0500
TZOFFSETTO:-0600
TZNAME:CST
DTSTART:20231105T070000
END:STANDARD
BEGIN:DAYLIGHT
TZOFFSETFROM:-0600
TZOFFSETTO:-0500
TZNAME:CDT
DTSTART:20240310T080000
END:DAYLIGHT
BEGIN:STANDARD
TZOFFSETFROM:-0500
TZOFFSETTO:-0600
TZNAME:CST
DTSTART:20241103T070000
END:STANDARD
BEGIN:DAYLIGHT
TZOFFSETFROM:-0600
TZOFFSETTO:-0500
TZNAME:CDT
DTSTART:20250309T080000
END:DAYLIGHT
BEGIN:STANDARD
TZOFFSETFROM:-0500
TZOFFSETTO:-0600
TZNAME:CST
DTSTART:20251102T070000
END:STANDARD
END:VTIMEZONE
BEGIN:VEVENT
DTSTART;TZID=America/Chicago:20240714T110000
DTEND;TZID=America/Chicago:20240714T110000
DTSTAMP:20260424T094515
CREATED:20250128T204819Z
LAST-MODIFIED:20250407T214758Z
UID:10000049-1720954800-1720954800@fordford.net
SUMMARY:ESTATE AUCTION: 2017 Ford F-150 XLT\, 4x4 Pickup Truck\, 2018 Subaru Impreza Premium\, Ford Focus\, Home Furnishings\, Gun Safe
DESCRIPTION:Click on the thumbnail to expand the photo. Be sure to visit each page of photos.\n*Please note* Most but not all lots are pictured. \n			\n			\n				\n				\n				\n				\n			\n				\n				\n				\n				\n				\n				\n				\n				\n				\n				\n				ESTATE AUCTION: 2017 Ford F-150 XLT\, 4×4 Pickup Truck\, 2018 Subaru Impreza Premium\, Ford Focus\, Home Furnishings\, Gun Safe\, Sunday\, July 14th\, 2024\, 5541 Milkweed Cr.\, Lincoln\, NE\nESTATE AUCTION: We are selling for the Mark & Nancy O’Neel Estate. \nPreview @ 10:00 AMAuction @ 11:00 AMAuction held at the location. \nFeaturing:2017 Ford F-150 XLT Pickup Truck\, 4×4\, (1) Owner\, Super Clean–40\,000 Miles2018 Subaru Empreza Premium–50\,000 Miles*003 Ford Focus–132K MilesSuper Clean Home FurnishingsGreen Mountain Pellet GrillCabela’s Gun SafeLawn/Garden & Tools \nFor Detailed Itinerary/Catalogues please send $5 for each day to our office and specify which day/s you wish to receive. \nAuction Location & Details\n5541 Milkweed Circl Lincoln\, Nebraska \nAuction Directions:At the intersection of So. 40th & Briarwood Lane\, (the traffic light)Turn West onto Briarwood Lane to Milkweed Circle.Turn South onto Milkweed Cricle to auction site.ORFrom the intersection of So. 31st and Old Cheney Road\,Turn North on So. 31st and following it to Milkweed Circle.(Look for auction arrow signs!) \nAuction Notice\nThis will not be a long sale.  So be prompt.The vehicles will sell at 12:30 PM. \nAuction Itinerary\n2017 Ford F-150 XLT Pickup Truck\, 4×4\, Bedliner\, New Camper Shell\,(1) Owner\, Super Clean–40\,000 Miles2018 Subaru Empreza Premium–50\,000 Miles2003 Ford Focus–132K Miles \n*Super Clean Home Furnishings*Large Dining Room Table & ChairsBar StoolsWood SetteeIkea Furniture–Storage Shelves & BookcasesAlmost New SofaOccasional ChairsOak Coffee TableOak Lamp TableLeather ReclinerSewing Machine & TableOffice Chair \nGreen Mountain Pellet Grill–Daniel Boone ModelCabela’s Gun Safe–24 Gun CapacityTruglo Compound BowDeer MountTurkey Feather Mount \nZ Road Outdoor GrillFishing Rods & ReelsSet Connexion Golf Club IronsDiamondback Mountain BikeBissell Revolution VacuumChest Freezer \nCast Iron CookwareNinja Air FyerMicrowaveRV Travel Trailer Hitch/ReceiverPet Travel Pen \nTroy-Bilt Snow Blower\, Storm 2620\, 26″ Clearing WidthTroy-bilt (2) Cycle TillerRemington Elec. ChainsawElec. Grass Edger–for Driveways & Sidewalks \nLifetime Outdoor ChairsOutdoor Storage BinOutdoor Lawn ChairsLawn/Garden & ToolsElectric Hand ToolsHand ToolsPlastic Storage Bins \nAluminum Extension LadderWheel BarrowRabbit Wire & FencingTomato GuardsChicken Weather VaneYard Windmill–with concrete baseBird Bath \n			\n			\n				\n				\n				\n				\n			\n				\n				\n				\n				\n				\n				\n				\n				\n				\n				\n				For further information\, please contact our office at 402-475-7312.\nFor Detailed Itinerary/Catalogues please send $5 for each day to our office and specify which day/s you wish to receive.\n			\n				\n				\n				\n				\n				Thank You for Attending!\nFORD & FORD AUCTIONEERS\, INC.\nNorman L. Ford – Founder   |   Gregory A. Ford – Salesman\n1-402-475-7312\n2000 West Denton Road Lincoln\, NE 68523\nquestions@fordfordauctioneers.com
URL:https://fordford.net/event/estate-auction-2017-ford-f-150-xlt-4x4-pickup-truck-2018-subaru-impreza-premium-ford-focus-home-furnishings-gun-safe/
LOCATION:5541 Milkweed Circle\, 5541 Milkweed Circle\, Lincoln\, NE\, 68516
CATEGORIES:Antique Auction,Auction,Collectible Auction,Estate Auction
ATTACH;FMTTYPE=image/jpeg:https://fordford.net/wp-content/uploads/2025/01/pickupIMG_9021.jpg
END:VEVENT
END:VCALENDAR